BEGIN:VCALENDAR
VERSION:2.0
PRODID:-//Arctic Slope Native Association - ECPv6.15.20//NONSGML v1.0//EN
CALSCALE:GREGORIAN
METHOD:PUBLISH
X-ORIGINAL-URL:https://arcticslope.org
X-WR-CALDESC:Events for Arctic Slope Native Association
REFRESH-INTERVAL;VALUE=DURATION:PT1H
X-Robots-Tag:noindex
X-PUBLISHED-TTL:PT1H
BEGIN:VTIMEZONE
TZID:America/Anchorage
BEGIN:DAYLIGHT
TZOFFSETFROM:-0900
TZOFFSETTO:-0800
TZNAME:AKDT
DTSTART:20200308T110000
END:DAYLIGHT
BEGIN:STANDARD
TZOFFSETFROM:-0800
TZOFFSETTO:-0900
TZNAME:AKST
DTSTART:20201101T100000
END:STANDARD
BEGIN:DAYLIGHT
TZOFFSETFROM:-0900
TZOFFSETTO:-0800
TZNAME:AKDT
DTSTART:20210314T110000
END:DAYLIGHT
BEGIN:STANDARD
TZOFFSETFROM:-0800
TZOFFSETTO:-0900
TZNAME:AKST
DTSTART:20211107T100000
END:STANDARD
BEGIN:DAYLIGHT
TZOFFSETFROM:-0900
TZOFFSETTO:-0800
TZNAME:AKDT
DTSTART:20220313T110000
END:DAYLIGHT
BEGIN:STANDARD
TZOFFSETFROM:-0800
TZOFFSETTO:-0900
TZNAME:AKST
DTSTART:20221106T100000
END:STANDARD
END:VTIMEZONE
BEGIN:VEVENT
DTSTART;VALUE=DATE:20210621
DTEND;VALUE=DATE:20210626
DTSTAMP:20260421T091425
CREATED:20210505T213752Z
LAST-MODIFIED:20210505T215208Z
UID:3812-1624233600-1624665599@arcticslope.org
SUMMARY:Cardiology Clinic
DESCRIPTION:Specialty Clinic appointments are only for those who receive a referral from a Primary Care Provider. For more information\, please contact Specialty Clinic directly at (907) 852-9284 or call toll free at 1 (888) 525-7764.
URL:https://arcticslope.org/event/cardiology-clinic-5/
LOCATION:Samuel Simmonds Memorial Hospital\, 7000 Uula St\, Utqiagvik\, AK\, 99723\, United States
CATEGORIES:Cardiology Clinic
END:VEVENT
BEGIN:VEVENT
DTSTART;VALUE=DATE:20210527
DTEND;VALUE=DATE:20210529
DTSTAMP:20260421T091425
CREATED:20210421T184040Z
LAST-MODIFIED:20210505T214802Z
UID:3730-1622073600-1622246399@arcticslope.org
SUMMARY:Cardiology Clinic
DESCRIPTION:Specialty Clinic appointments are only for those who receive a referral from a Primary Care Provider. For more information\, please contact Specialty Clinic directly at (907) 852-9284 or call toll free at 1 (888) 525-7764.
URL:https://arcticslope.org/event/cardiology-clinic-3/
LOCATION:Samuel Simmonds Memorial Hospital\, 7000 Uula St\, Utqiagvik\, AK\, 99723\, United States
CATEGORIES:Cardiology Clinic
END:VEVENT
BEGIN:VEVENT
DTSTART;VALUE=DATE:20210525
DTEND;VALUE=DATE:20210526
DTSTAMP:20260421T091425
CREATED:20210505T213210Z
LAST-MODIFIED:20210505T214747Z
UID:3801-1621900800-1621987199@arcticslope.org
SUMMARY:Cardiology Clinic
DESCRIPTION:Specialty Clinic appointments are only for those who receive a referral from a Primary Care Provider. For more information\, please contact Specialty Clinic directly at (907) 852-9284 or call toll free at 1 (888) 525-7764.
URL:https://arcticslope.org/event/cardiology-clinic-4/
LOCATION:Samuel Simmonds Memorial Hospital\, 7000 Uula St\, Utqiagvik\, AK\, 99723\, United States
CATEGORIES:Cardiology Clinic
END:VEVENT
END:VCALENDAR