BEGIN:VCALENDAR
VERSION:2.0
PRODID:-//Arctic Slope Native Association - ECPv6.15.20//NONSGML v1.0//EN
CALSCALE:GREGORIAN
METHOD:PUBLISH
X-WR-CALNAME:Arctic Slope Native Association
X-ORIGINAL-URL:https://arcticslope.org
X-WR-CALDESC:Events for Arctic Slope Native Association
REFRESH-INTERVAL;VALUE=DURATION:PT1H
X-Robots-Tag:noindex
X-PUBLISHED-TTL:PT1H
BEGIN:VTIMEZONE
TZID:America/Anchorage
BEGIN:DAYLIGHT
TZOFFSETFROM:-0900
TZOFFSETTO:-0800
TZNAME:AKDT
DTSTART:20210314T110000
END:DAYLIGHT
BEGIN:STANDARD
TZOFFSETFROM:-0800
TZOFFSETTO:-0900
TZNAME:AKST
DTSTART:20211107T100000
END:STANDARD
BEGIN:DAYLIGHT
TZOFFSETFROM:-0900
TZOFFSETTO:-0800
TZNAME:AKDT
DTSTART:20220313T110000
END:DAYLIGHT
BEGIN:STANDARD
TZOFFSETFROM:-0800
TZOFFSETTO:-0900
TZNAME:AKST
DTSTART:20221106T100000
END:STANDARD
BEGIN:DAYLIGHT
TZOFFSETFROM:-0900
TZOFFSETTO:-0800
TZNAME:AKDT
DTSTART:20230312T110000
END:DAYLIGHT
BEGIN:STANDARD
TZOFFSETFROM:-0800
TZOFFSETTO:-0900
TZNAME:AKST
DTSTART:20231105T100000
END:STANDARD
END:VTIMEZONE
BEGIN:VEVENT
DTSTART;VALUE=DATE:20220526
DTEND;VALUE=DATE:20220528
DTSTAMP:20260421T033414
CREATED:20220425T181134Z
LAST-MODIFIED:20220425T181134Z
UID:5254-1653523200-1653695999@arcticslope.org
SUMMARY:COVID Vaccine Clinic|Nuiqsut
DESCRIPTION:SSMH medical staff will be in Nuiqsut to offer both of the COVID-19 vaccines. Please call the Health Clinic to get on the COVID-19 Vaccine list.
URL:https://arcticslope.org/event/covid-vaccine-clinicnuiqsut-6/
LOCATION:Nuiqsut Village Health Clinic
CATEGORIES:COVID Vaccine
END:VEVENT
BEGIN:VEVENT
DTSTART;VALUE=DATE:20220523
DTEND;VALUE=DATE:20220525
DTSTAMP:20260421T033414
CREATED:20220425T181734Z
LAST-MODIFIED:20220425T181734Z
UID:5264-1653264000-1653436799@arcticslope.org
SUMMARY:COVID Vaccine Clinic|Kaktovik
DESCRIPTION:SSMH medical staff will be in Kaktovik to offer both of the COVID-19 vaccines. Please call the Health Clinic to get on the COVID-19 Vaccine list.
URL:https://arcticslope.org/event/covid-vaccine-clinickaktovik-6/
LOCATION:Kaktovik Village Health Clinic
CATEGORIES:COVID Vaccine
END:VEVENT
BEGIN:VEVENT
DTSTART;VALUE=DATE:20220519
DTEND;VALUE=DATE:20220521
DTSTAMP:20260421T033414
CREATED:20220425T180607Z
LAST-MODIFIED:20220425T180607Z
UID:5244-1652918400-1653091199@arcticslope.org
SUMMARY:COVID Vaccine Clinic|Atqasuk
DESCRIPTION:SSMH medical staff will be in Atqasuk to offer both of the COVID-19 vaccines. Please call the Health Clinic to get on the COVID-19 Vaccine list.
URL:https://arcticslope.org/event/covid-vaccine-clinicatqasuk-6/
LOCATION:Atqasuk Village Health Clinic
CATEGORIES:COVID Vaccine
END:VEVENT
BEGIN:VEVENT
DTSTART;VALUE=DATE:20220516
DTEND;VALUE=DATE:20220518
DTSTAMP:20260421T033414
CREATED:20220425T180837Z
LAST-MODIFIED:20220425T180837Z
UID:5248-1652659200-1652831999@arcticslope.org
SUMMARY:COVID Vaccine Clinic|Wainwright
DESCRIPTION:SSMH medical staff will be in Wainwright to offer both of the COVID-19 vaccines. Please call the Health Clinic to get on the COVID-19 Vaccine list.
URL:https://arcticslope.org/event/covid-vaccine-clinicwainwright-5/
LOCATION:Wainwright Village Health Clinic\, 1235 Airport Rd\, Wainwright\, AK\, 99782\, United States
CATEGORIES:COVID Vaccine
END:VEVENT
BEGIN:VEVENT
DTSTART;VALUE=DATE:20220510
DTEND;VALUE=DATE:20220513
DTSTAMP:20260421T033414
CREATED:20220425T181418Z
LAST-MODIFIED:20220425T181418Z
UID:5258-1652140800-1652399999@arcticslope.org
SUMMARY:COVID Vaccine Clinic|Point Lay
DESCRIPTION:SSMH medical staff will be in Point Lay to offer both of the COVID-19 vaccines. Please call the Health Clinic to get on the COVID-19 Vaccine list.
URL:https://arcticslope.org/event/covid-vaccine-clinicpoint-lay-5/
LOCATION:Point Lay Village Health Clinic
CATEGORIES:COVID Vaccine
END:VEVENT
BEGIN:VEVENT
DTSTART;VALUE=DATE:20220505
DTEND;VALUE=DATE:20220507
DTSTAMP:20260421T033414
CREATED:20220425T180934Z
LAST-MODIFIED:20220425T180934Z
UID:5250-1651708800-1651881599@arcticslope.org
SUMMARY:COVID Vaccine Clinic|Nuiqsut
DESCRIPTION:SSMH medical staff will be in Nuiqsut to offer both of the COVID-19 vaccines. Please call the Health Clinic to get on the COVID-19 Vaccine list.
URL:https://arcticslope.org/event/covid-vaccine-clinicnuiqsut-5/
LOCATION:Nuiqsut Village Health Clinic
CATEGORIES:COVID Vaccine
END:VEVENT
BEGIN:VEVENT
DTSTART;VALUE=DATE:20220502
DTEND;VALUE=DATE:20220504
DTSTAMP:20260421T033414
CREATED:20220425T181617Z
LAST-MODIFIED:20220425T181617Z
UID:5262-1651449600-1651622399@arcticslope.org
SUMMARY:COVID Vaccine Clinic|Kaktovik
DESCRIPTION:SSMH medical staff will be in Kaktovik to offer both of the COVID-19 vaccines. Please call the Health Clinic to get on the COVID-19 Vaccine list.
URL:https://arcticslope.org/event/covid-vaccine-clinickaktovik-5/
LOCATION:Kaktovik Village Health Clinic
CATEGORIES:COVID Vaccine
END:VEVENT
BEGIN:VEVENT
DTSTART;VALUE=DATE:20220428
DTEND;VALUE=DATE:20220430
DTSTAMP:20260421T033414
CREATED:20220314T172936Z
LAST-MODIFIED:20220314T172936Z
UID:5074-1651104000-1651276799@arcticslope.org
SUMMARY:COVID Vaccine Clinic|Atqasuk
DESCRIPTION:SSMH medical staff will be in Atqasuk to offer both of the COVID-19 vaccines. Please call the Health Clinic to get on the COVID-19 Vaccine list.
URL:https://arcticslope.org/event/covid-vaccine-clinicatqasuk-5/
LOCATION:Atqasuk Village Health Clinic
CATEGORIES:COVID Vaccine
END:VEVENT
BEGIN:VEVENT
DTSTART;VALUE=DATE:20220425
DTEND;VALUE=DATE:20220427
DTSTAMP:20260421T033414
CREATED:20220314T173152Z
LAST-MODIFIED:20220314T173152Z
UID:5078-1650844800-1651017599@arcticslope.org
SUMMARY:COVID Vaccine Clinic|Wainwright
DESCRIPTION:SSMH medical staff will be in Wainwright to offer both of the COVID-19 vaccines. Please call the Health Clinic to get on the COVID-19 Vaccine list.
URL:https://arcticslope.org/event/covid-vaccine-clinicwainwright-4/
LOCATION:Wainwright Village Health Clinic\, 1235 Airport Rd\, Wainwright\, AK\, 99782\, United States
CATEGORIES:COVID Vaccine
END:VEVENT
BEGIN:VEVENT
DTSTART;VALUE=DATE:20220419
DTEND;VALUE=DATE:20220422
DTSTAMP:20260421T033414
CREATED:20220314T173405Z
LAST-MODIFIED:20220314T173405Z
UID:5082-1650326400-1650585599@arcticslope.org
SUMMARY:COVID Vaccine Clinic|Point Lay
DESCRIPTION:SSMH medical staff will be in Point Lay to offer both of the COVID-19 vaccines. Please call the Health Clinic to get on the COVID-19 Vaccine list.
URL:https://arcticslope.org/event/covid-vaccine-clinicpoint-lay-4/
LOCATION:Point Lay Village Health Clinic
CATEGORIES:COVID Vaccine
END:VEVENT
BEGIN:VEVENT
DTSTART;VALUE=DATE:20220414
DTEND;VALUE=DATE:20220416
DTSTAMP:20260421T033414
CREATED:20220314T173314Z
LAST-MODIFIED:20220314T173314Z
UID:5080-1649894400-1650067199@arcticslope.org
SUMMARY:COVID Vaccine Clinic|Nuiqsut
DESCRIPTION:SSMH medical staff will be in Nuiqsut to offer both of the COVID-19 vaccines. Please call the Health Clinic to get on the COVID-19 Vaccine list.
URL:https://arcticslope.org/event/covid-vaccine-clinicnuiqsut-4/
LOCATION:Nuiqsut Village Health Clinic
CATEGORIES:COVID Vaccine
END:VEVENT
BEGIN:VEVENT
DTSTART;VALUE=DATE:20220411
DTEND;VALUE=DATE:20220413
DTSTAMP:20260421T033414
CREATED:20220314T173452Z
LAST-MODIFIED:20220314T173452Z
UID:5084-1649635200-1649807999@arcticslope.org
SUMMARY:COVID Vaccine Clinic|Kaktovik
DESCRIPTION:SSMH medical staff will be in Kaktovik to offer both of the COVID-19 vaccines. Please call the Health Clinic to get on the COVID-19 Vaccine list.
URL:https://arcticslope.org/event/covid-vaccine-clinickaktovik-4/
LOCATION:Kaktovik Village Health Clinic
CATEGORIES:COVID Vaccine
END:VEVENT
BEGIN:VEVENT
DTSTART;VALUE=DATE:20220407
DTEND;VALUE=DATE:20220409
DTSTAMP:20260421T033414
CREATED:20220314T172834Z
LAST-MODIFIED:20220314T172834Z
UID:5072-1649289600-1649462399@arcticslope.org
SUMMARY:COVID Vaccine Clinic|Atqasuk
DESCRIPTION:SSMH medical staff will be in Atqasuk to offer both of the COVID-19 vaccines. Please call the Health Clinic to get on the COVID-19 Vaccine list.
URL:https://arcticslope.org/event/covid-vaccine-clinicatqasuk-4/
LOCATION:Atqasuk Village Health Clinic
CATEGORIES:COVID Vaccine
END:VEVENT
BEGIN:VEVENT
DTSTART;VALUE=DATE:20220404
DTEND;VALUE=DATE:20220406
DTSTAMP:20260421T033414
CREATED:20220314T173058Z
LAST-MODIFIED:20220314T173058Z
UID:5076-1649030400-1649203199@arcticslope.org
SUMMARY:COVID Vaccine Clinic|Wainwright
DESCRIPTION:SSMH medical staff will be in Wainwright to offer both of the COVID-19 vaccines. Please call the Health Clinic to get on the COVID-19 Vaccine list.
URL:https://arcticslope.org/event/covid-vaccine-clinicwainwright-3/
LOCATION:Wainwright Village Health Clinic\, 1235 Airport Rd\, Wainwright\, AK\, 99782\, United States
CATEGORIES:COVID Vaccine
END:VEVENT
BEGIN:VEVENT
DTSTART;VALUE=DATE:20220329
DTEND;VALUE=DATE:20220401
DTSTAMP:20260421T033414
CREATED:20220303T183310Z
LAST-MODIFIED:20220303T183310Z
UID:5025-1648512000-1648771199@arcticslope.org
SUMMARY:COVID Vaccine Clinic|Point Lay
DESCRIPTION:SSMH medical staff will be in Point Lay to offer both of the COVID-19 vaccines. Please call the Health Clinic to get on the COVID-19 Vaccine list.
URL:https://arcticslope.org/event/covid-vaccine-clinicpoint-lay-3/
LOCATION:Point Lay Village Health Clinic
CATEGORIES:COVID Vaccine
END:VEVENT
BEGIN:VEVENT
DTSTART;VALUE=DATE:20220324
DTEND;VALUE=DATE:20220326
DTSTAMP:20260421T033414
CREATED:20220303T183153Z
LAST-MODIFIED:20220303T183153Z
UID:5021-1648080000-1648252799@arcticslope.org
SUMMARY:COVID Vaccine Clinic|Nuiqsut
DESCRIPTION:SSMH medical staff will be in Nuiqsut to offer both of the COVID-19 vaccines. Please call the Health Clinic to get on the COVID-19 Vaccine list.
URL:https://arcticslope.org/event/covid-vaccine-clinicnuiqsut-3/
LOCATION:Nuiqsut Village Health Clinic
CATEGORIES:COVID Vaccine
END:VEVENT
BEGIN:VEVENT
DTSTART;VALUE=DATE:20220321
DTEND;VALUE=DATE:20220323
DTSTAMP:20260421T033414
CREATED:20220303T183349Z
LAST-MODIFIED:20220303T183349Z
UID:5027-1647820800-1647993599@arcticslope.org
SUMMARY:COVID Vaccine Clinic|Kaktovik
DESCRIPTION:SSMH medical staff will be in Kaktovik to offer both of the COVID-19 vaccines. Please call the Health Clinic to get on the COVID-19 Vaccine list.
URL:https://arcticslope.org/event/covid-vaccine-clinickaktovik-3/
LOCATION:Kaktovik Village Health Clinic
CATEGORIES:COVID Vaccine
END:VEVENT
BEGIN:VEVENT
DTSTART;VALUE=DATE:20220317
DTEND;VALUE=DATE:20220319
DTSTAMP:20260421T033414
CREATED:20220303T182919Z
LAST-MODIFIED:20220303T182919Z
UID:5015-1647475200-1647647999@arcticslope.org
SUMMARY:COVID Vaccine Clinic|Atqasuk
DESCRIPTION:SSMH medical staff will be in Atqasuk to offer both of the COVID-19 vaccines. Please call the Health Clinic to get on the COVID-19 Vaccine list.
URL:https://arcticslope.org/event/covid-vaccine-clinicatqasuk-3/
LOCATION:Atqasuk Village Health Clinic
CATEGORIES:COVID Vaccine
END:VEVENT
BEGIN:VEVENT
DTSTART;VALUE=DATE:20220314
DTEND;VALUE=DATE:20220316
DTSTAMP:20260421T033414
CREATED:20220303T183011Z
LAST-MODIFIED:20220303T183011Z
UID:5017-1647216000-1647388799@arcticslope.org
SUMMARY:COVID Vaccine Clinic|Wainwright
DESCRIPTION:SSMH medical staff will be in Wainwright to offer both of the COVID-19 vaccines. Please call the Health Clinic to get on the COVID-19 Vaccine list.
URL:https://arcticslope.org/event/covid-vaccine-clinicwainwright-2/
LOCATION:Wainwright Village Health Clinic\, 1235 Airport Rd\, Wainwright\, AK\, 99782\, United States
CATEGORIES:COVID Vaccine
END:VEVENT
BEGIN:VEVENT
DTSTART;VALUE=DATE:20220308
DTEND;VALUE=DATE:20220311
DTSTAMP:20260421T033414
CREATED:20220303T183228Z
LAST-MODIFIED:20220303T183228Z
UID:5023-1646697600-1646956799@arcticslope.org
SUMMARY:COVID Vaccine Clinic|Point Lay
DESCRIPTION:SSMH medical staff will be in Point Lay to offer both of the COVID-19 vaccines. Please call the Health Clinic to get on the COVID-19 Vaccine list.
URL:https://arcticslope.org/event/covid-vaccine-clinicpoint-lay-2/
LOCATION:Point Lay Village Health Clinic
CATEGORIES:COVID Vaccine
END:VEVENT
BEGIN:VEVENT
DTSTART;VALUE=DATE:20220303
DTEND;VALUE=DATE:20220305
DTSTAMP:20260421T033414
CREATED:20220303T183108Z
LAST-MODIFIED:20220303T183108Z
UID:5019-1646265600-1646438399@arcticslope.org
SUMMARY:COVID Vaccine Clinic|Nuiqsut
DESCRIPTION:SSMH medical staff will be in Nuiqsut to offer both of the COVID-19 vaccines. Please call the Health Clinic to get on the COVID-19 Vaccine list.
URL:https://arcticslope.org/event/covid-vaccine-clinicnuiqsut-2/
LOCATION:Nuiqsut Village Health Clinic
CATEGORIES:COVID Vaccine
END:VEVENT
BEGIN:VEVENT
DTSTART;VALUE=DATE:20220228
DTEND;VALUE=DATE:20220302
DTSTAMP:20260421T033414
CREATED:20220126T004249Z
LAST-MODIFIED:20220126T004249Z
UID:4835-1646006400-1646179199@arcticslope.org
SUMMARY:COVID Vaccine Clinic|Kaktovik
DESCRIPTION:SSMH medical staff will be in Kaktovik to offer both of the COVID-19 vaccines. Please call the Health Clinic to get on the COVID-19 Vaccine list.
URL:https://arcticslope.org/event/covid-vaccine-clinickaktovik-2/
LOCATION:Kaktovik Village Health Clinic
CATEGORIES:COVID Vaccine
END:VEVENT
BEGIN:VEVENT
DTSTART;VALUE=DATE:20220224
DTEND;VALUE=DATE:20220226
DTSTAMP:20260421T033414
CREATED:20220126T001455Z
LAST-MODIFIED:20220126T001455Z
UID:4805-1645660800-1645833599@arcticslope.org
SUMMARY:COVID Vaccine Clinic|Atqasuk
DESCRIPTION:SSMH medical staff will be in Atqasuk to offer both of the COVID-19 vaccines. Please call the Health Clinic to get on the COVID-19 Vaccine list.
URL:https://arcticslope.org/event/covid-vaccine-clinicatqasuk-2/
LOCATION:Atqasuk Village Health Clinic
CATEGORIES:COVID Vaccine
END:VEVENT
BEGIN:VEVENT
DTSTART;VALUE=DATE:20220221
DTEND;VALUE=DATE:20220223
DTSTAMP:20260421T033414
CREATED:20220126T002611Z
LAST-MODIFIED:20220126T002611Z
UID:4813-1645401600-1645574399@arcticslope.org
SUMMARY:COVID Vaccine Clinic|Wainwright
DESCRIPTION:SSMH medical staff will be in Wainwright to offer both of the COVID-19 vaccines. Please call the Health Clinic to get on the COVID-19 Vaccine list.
URL:https://arcticslope.org/event/covid-vaccine-clinicwainwright/
LOCATION:Wainwright Village Health Clinic\, 1235 Airport Rd\, Wainwright\, AK\, 99782\, United States
CATEGORIES:COVID Vaccine
END:VEVENT
BEGIN:VEVENT
DTSTART;VALUE=DATE:20220215
DTEND;VALUE=DATE:20220218
DTSTAMP:20260421T033414
CREATED:20220126T003431Z
LAST-MODIFIED:20220126T003431Z
UID:4823-1644883200-1645142399@arcticslope.org
SUMMARY:COVID Vaccine Clinic|Point Lay
DESCRIPTION:SSMH medical staff will be in Point Lay to offer both of the COVID-19 vaccines. Please call the Health Clinic to get on the COVID-19 Vaccine list.
URL:https://arcticslope.org/event/covid-vaccine-clinicpoint-lay/
LOCATION:Point Lay Village Health Clinic
CATEGORIES:COVID Vaccine
END:VEVENT
BEGIN:VEVENT
DTSTART;VALUE=DATE:20220211
DTEND;VALUE=DATE:20220213
DTSTAMP:20260421T033414
CREATED:20220126T003115Z
LAST-MODIFIED:20220209T182316Z
UID:4819-1644537600-1644710399@arcticslope.org
SUMMARY:COVID Vaccine Clinic|Nuiqsut
DESCRIPTION:SSMH medical staff will be in Nuiqsut to offer both of the COVID-19\nvaccines. Please call the Health Clinic to get on the COVID-19 Vaccine list.
URL:https://arcticslope.org/event/covid-vaccine-clinicnuiqsut/
LOCATION:Nuiqsut Village Health Clinic
CATEGORIES:COVID Vaccine
END:VEVENT
BEGIN:VEVENT
DTSTART;VALUE=DATE:20220210
DTEND;VALUE=DATE:20220212
DTSTAMP:20260421T033414
CREATED:20220209T182413Z
LAST-MODIFIED:20220209T182413Z
UID:4910-1644451200-1644623999@arcticslope.org
SUMMARY:COVID Vaccine Clinic|Kaktovik
DESCRIPTION:SSMH medical staff will be in Kaktovik to offer both of the COVID-19\nvaccines. Please call the Health Clinic to get on the COVID-19 Vaccine list.
URL:https://arcticslope.org/event/covid-vaccine-clinickaktovik/
LOCATION:Kaktovik Village Health Clinic
CATEGORIES:COVID Vaccine
END:VEVENT
BEGIN:VEVENT
DTSTART;VALUE=DATE:20220203
DTEND;VALUE=DATE:20220205
DTSTAMP:20260421T033414
CREATED:20220125T222605Z
LAST-MODIFIED:20220125T222605Z
UID:4799-1643846400-1644019199@arcticslope.org
SUMMARY:COVID Vaccine Clinic|Atqasuk
DESCRIPTION:SSMH medical staff will be in Atqasuk to offer both of the COVID-19\nvaccines. Please call the Health Clinic to get on the COVID-19 Vaccine list.
URL:https://arcticslope.org/event/covid-vaccine-clinicatqasuk/
LOCATION:Atqasuk Village Health Clinic
CATEGORIES:COVID Vaccine
END:VEVENT
BEGIN:VEVENT
DTSTART;TZID=America/Anchorage:20220131T080000
DTEND;TZID=America/Anchorage:20220202T170000
DTSTAMP:20260421T033414
CREATED:20220124T185719Z
LAST-MODIFIED:20220124T185719Z
UID:4779-1643616000-1643821200@arcticslope.org
SUMMARY:COVID Vaccine Clinic | Wainwright
DESCRIPTION:With Monica Nitzche-Poe.
URL:https://arcticslope.org/event/covid-vaccine-clinic-wainwright/
LOCATION:Wainwright Village Health Clinic\, 1235 Airport Rd\, Wainwright\, AK\, 99782\, United States
CATEGORIES:COVID Vaccine
END:VEVENT
BEGIN:VEVENT
DTSTART;VALUE=DATE:20220125
DTEND;VALUE=DATE:20220128
DTSTAMP:20260421T033414
CREATED:20220124T185917Z
LAST-MODIFIED:20220124T185917Z
UID:4781-1643068800-1643327999@arcticslope.org
SUMMARY:COVID Vaccine Clinic | Point Lay
DESCRIPTION:With Lori Roberts.
URL:https://arcticslope.org/event/covid-vaccine-clinic-point-lay/
LOCATION:Point Lay Village Health Clinic
CATEGORIES:COVID Vaccine
END:VEVENT
END:VCALENDAR