BEGIN:VCALENDAR
VERSION:2.0
PRODID:-//Arctic Slope Native Association - ECPv6.15.20//NONSGML v1.0//EN
CALSCALE:GREGORIAN
METHOD:PUBLISH
X-WR-CALNAME:Arctic Slope Native Association
X-ORIGINAL-URL:https://arcticslope.org
X-WR-CALDESC:Events for Arctic Slope Native Association
REFRESH-INTERVAL;VALUE=DURATION:PT1H
X-Robots-Tag:noindex
X-PUBLISHED-TTL:PT1H
BEGIN:VTIMEZONE
TZID:America/Anchorage
BEGIN:DAYLIGHT
TZOFFSETFROM:-0900
TZOFFSETTO:-0800
TZNAME:AKDT
DTSTART:20180311T110000
END:DAYLIGHT
BEGIN:STANDARD
TZOFFSETFROM:-0800
TZOFFSETTO:-0900
TZNAME:AKST
DTSTART:20181104T100000
END:STANDARD
BEGIN:DAYLIGHT
TZOFFSETFROM:-0900
TZOFFSETTO:-0800
TZNAME:AKDT
DTSTART:20190310T110000
END:DAYLIGHT
BEGIN:STANDARD
TZOFFSETFROM:-0800
TZOFFSETTO:-0900
TZNAME:AKST
DTSTART:20191103T100000
END:STANDARD
BEGIN:DAYLIGHT
TZOFFSETFROM:-0900
TZOFFSETTO:-0800
TZNAME:AKDT
DTSTART:20200308T110000
END:DAYLIGHT
BEGIN:STANDARD
TZOFFSETFROM:-0800
TZOFFSETTO:-0900
TZNAME:AKST
DTSTART:20201101T100000
END:STANDARD
BEGIN:DAYLIGHT
TZOFFSETFROM:-0900
TZOFFSETTO:-0800
TZNAME:AKDT
DTSTART:20210314T110000
END:DAYLIGHT
BEGIN:STANDARD
TZOFFSETFROM:-0800
TZOFFSETTO:-0900
TZNAME:AKST
DTSTART:20211107T100000
END:STANDARD
BEGIN:DAYLIGHT
TZOFFSETFROM:-0900
TZOFFSETTO:-0800
TZNAME:AKDT
DTSTART:20220313T110000
END:DAYLIGHT
BEGIN:STANDARD
TZOFFSETFROM:-0800
TZOFFSETTO:-0900
TZNAME:AKST
DTSTART:20221106T100000
END:STANDARD
BEGIN:DAYLIGHT
TZOFFSETFROM:-0900
TZOFFSETTO:-0800
TZNAME:AKDT
DTSTART:20230312T110000
END:DAYLIGHT
BEGIN:STANDARD
TZOFFSETFROM:-0800
TZOFFSETTO:-0900
TZNAME:AKST
DTSTART:20231105T100000
END:STANDARD
END:VTIMEZONE
BEGIN:VEVENT
DTSTART;VALUE=DATE:20220502
DTEND;VALUE=DATE:20220507
DTSTAMP:20260421T084832
CREATED:20220425T180320Z
LAST-MODIFIED:20220425T180320Z
UID:5240-1651449600-1651881599@arcticslope.org
SUMMARY:Dental Village Visit|Atqasuk
DESCRIPTION:SSMH Dental Hygienist\, Claudia Richter\, is scheduled to be in Atqasuk. Please call your NSB village health clinic to ensure that your name is on the “dental list” with your contact information.
URL:https://arcticslope.org/event/dental-village-visitatqasuk/
LOCATION:Atqasuk Village Health Clinic
CATEGORIES:Dental Village Visit | Atqasuk
END:VEVENT
BEGIN:VEVENT
DTSTART;VALUE=DATE:20220110
DTEND;VALUE=DATE:20220115
DTSTAMP:20260421T084832
CREATED:20211105T172639Z
LAST-MODIFIED:20211105T172639Z
UID:4559-1641772800-1642204799@arcticslope.org
SUMMARY:Dental Village Visit | Atqasuk
DESCRIPTION:Dates are subject to change. To see A. Stein\, RDH\, call your village health clinic to ensure your name is on the “dental list” with your current phone number(s).
URL:https://arcticslope.org/event/dental-village-visit-atqasuk-4/
LOCATION:Atqasuk Village Health Clinic
CATEGORIES:Dental Village Visit | Atqasuk
END:VEVENT
BEGIN:VEVENT
DTSTART;VALUE=DATE:20200323
DTEND;VALUE=DATE:20200328
DTSTAMP:20260421T084832
CREATED:20191226T222925Z
LAST-MODIFIED:20200102T190357Z
UID:1677-1584921600-1585353599@arcticslope.org
SUMMARY:Dental Village Visit | Atqasuk
DESCRIPTION:(Dates are subject to change.) To see Dr. T. Butler\, call your village health clinic to ensure your name is on the “dental list” with your current phone number(s).
URL:https://arcticslope.org/event/dental-village-visit-atqasuk-3/
LOCATION:Atqasuk Village Health Clinic
CATEGORIES:Dental Village Visit | Atqasuk
END:VEVENT
BEGIN:VEVENT
DTSTART;VALUE=DATE:20200210
DTEND;VALUE=DATE:20200215
DTSTAMP:20260421T084832
CREATED:20191226T222113Z
LAST-MODIFIED:20200102T190738Z
UID:1667-1581292800-1581724799@arcticslope.org
SUMMARY:Dental Village Visit | Atqasuk
DESCRIPTION:(Dates are subject to change.) To see  RDH Bowman\, call your village health clinic to ensure your name is on the “dental list” with your current phone number(s).
URL:https://arcticslope.org/event/dental-village-visit-atqasuk-2/
LOCATION:Atqasuk Village Health Clinic
CATEGORIES:Dental Village Visit | Atqasuk
END:VEVENT
BEGIN:VEVENT
DTSTART;TZID=America/Anchorage:20191007T083000
DTEND;TZID=America/Anchorage:20191011T173000
DTSTAMP:20260421T084832
CREATED:20190911T171120Z
LAST-MODIFIED:20190912T022951Z
UID:850-1570437000-1570815000@arcticslope.org
SUMMARY:Medical Provider Visit | Atqasuk
DESCRIPTION:[vc_row css_animation=”” row_type=”row” use_row_as_full_screen_section=”no” type=”full_width” angled_section=”no” text_align=”left” background_image_as_pattern=”without_pattern”][vc_column][vc_column_text]To schedule your appointment with Becky Andrew\, SSMH Physician Assistant\, please call your village health clinic to ensure your name is on the list with your current phone number(s).[/vc_column_text][vc_gmaps link=”#E-8_JTNDaWZyYW1lJTIwc3JjJTNEJTIyaHR0cHMlM0ElMkYlMkZ3d3cuZ29vZ2xlLmNvbSUyRm1hcHMlMkZlbWJlZCUzRnBiJTNEJTIxMW0xOCUyMTFtMTIlMjExbTMlMjExZDUxNTIuNzk1NTg1NTI5Nzk4JTIxMmQtMTU3LjQyNTg0MjA2NzY3MDUlMjEzZDcwLjQ4MTUyMTc0MjAwOTM1JTIxMm0zJTIxMWYwJTIxMmYwJTIxM2YwJTIxM20yJTIxMWkxMDI0JTIxMmk3NjglMjE0ZjEzLjElMjEzbTMlMjExbTIlMjExczB4NTBjNGFiMTIzMDAwZWRjNyUyNTNBMHg0NGE5NzRhZTFiNGMxMGU4JTIxMnNBdHFhc3VrJTI1MkMlMjUyMEFLJTI1MjA5OTc5MSUyMTVlMSUyMTNtMiUyMTFzZW4lMjEyc3VzJTIxNHYxNTY4MjU1MzY4NDM1JTIxNW0yJTIxMXNlbiUyMTJzdXMlMjIlMjB3aWR0aCUzRCUyMjYwMCUyMiUyMGhlaWdodCUzRCUyMjQ1MCUyMiUyMGZyYW1lYm9yZGVyJTNEJTIyMCUyMiUyMHN0eWxlJTNEJTIyYm9yZGVyJTNBMCUzQiUyMiUyMGFsbG93ZnVsbHNjcmVlbiUzRCUyMiUyMiUzRSUzQyUyRmlmcmFtZSUzRQ==”][/vc_column][/vc_row]
URL:https://arcticslope.org/event/medical-provider-visit-atqasuk/
LOCATION:Atqasuk Village Health Clinic
CATEGORIES:Dental Village Visit | Atqasuk
ATTACH;FMTTYPE=image/jpeg:https://arcticslope.org/wp-content/uploads/2019/09/denta.jpg
END:VEVENT
BEGIN:VEVENT
DTSTART;TZID=America/Anchorage:20190909T083000
DTEND;TZID=America/Anchorage:20190913T173000
DTSTAMP:20260421T084832
CREATED:20190911T155929Z
LAST-MODIFIED:20190912T023041Z
UID:823-1568017800-1568395800@arcticslope.org
SUMMARY:Dental Village Visit | Atqasuk
DESCRIPTION:[vc_row css_animation=”” row_type=”row” use_row_as_full_screen_section=”no” type=”full_width” angled_section=”no” text_align=”left” background_image_as_pattern=”without_pattern”][vc_column][vc_column_text]Dates are subject to change. To see the Dental Hygienist\, call your village health clinic to ensure your name is on the “dental list” with your current phone number(s).[/vc_column_text][vc_gmaps link=”#E-8_JTNDaWZyYW1lJTIwc3JjJTNEJTIyaHR0cHMlM0ElMkYlMkZ3d3cuZ29vZ2xlLmNvbSUyRm1hcHMlMkZlbWJlZCUzRnBiJTNEJTIxMW0xOCUyMTFtMTIlMjExbTMlMjExZDUxNTIuNzk1NTg1NTI5Nzk4JTIxMmQtMTU3LjQyNTg0MjA2NzY3MDUlMjEzZDcwLjQ4MTUyMTc0MjAwOTM1JTIxMm0zJTIxMWYwJTIxMmYwJTIxM2YwJTIxM20yJTIxMWkxMDI0JTIxMmk3NjglMjE0ZjEzLjElMjEzbTMlMjExbTIlMjExczB4NTBjNGFiMTIzMDAwZWRjNyUyNTNBMHg0NGE5NzRhZTFiNGMxMGU4JTIxMnNBdHFhc3VrJTI1MkMlMjUyMEFLJTI1MjA5OTc5MSUyMTVlMSUyMTNtMiUyMTFzZW4lMjEyc3VzJTIxNHYxNTY4MjU1MzY4NDM1JTIxNW0yJTIxMXNlbiUyMTJzdXMlMjIlMjB3aWR0aCUzRCUyMjYwMCUyMiUyMGhlaWdodCUzRCUyMjQ1MCUyMiUyMGZyYW1lYm9yZGVyJTNEJTIyMCUyMiUyMHN0eWxlJTNEJTIyYm9yZGVyJTNBMCUzQiUyMiUyMGFsbG93ZnVsbHNjcmVlbiUzRCUyMiUyMiUzRSUzQyUyRmlmcmFtZSUzRQ==”][/vc_column][/vc_row]
URL:https://arcticslope.org/event/dental-village-visit-atqasuk/
LOCATION:Samuel Simmonds Memorial Hospital\, 7000 Uula St\, Utqiagvik\, AK\, 99723\, United States
CATEGORIES:Dental Village Visit | Atqasuk
ATTACH;FMTTYPE=image/jpeg:https://arcticslope.org/wp-content/uploads/2019/09/d4.jpg
END:VEVENT
END:VCALENDAR