BEGIN:VCALENDAR
VERSION:2.0
PRODID:-//Arctic Slope Native Association - ECPv6.15.20//NONSGML v1.0//EN
CALSCALE:GREGORIAN
METHOD:PUBLISH
X-WR-CALNAME:Arctic Slope Native Association
X-ORIGINAL-URL:https://arcticslope.org
X-WR-CALDESC:Events for Arctic Slope Native Association
REFRESH-INTERVAL;VALUE=DURATION:PT1H
X-Robots-Tag:noindex
X-PUBLISHED-TTL:PT1H
BEGIN:VTIMEZONE
TZID:America/Anchorage
BEGIN:DAYLIGHT
TZOFFSETFROM:-0900
TZOFFSETTO:-0800
TZNAME:AKDT
DTSTART:20180311T110000
END:DAYLIGHT
BEGIN:STANDARD
TZOFFSETFROM:-0800
TZOFFSETTO:-0900
TZNAME:AKST
DTSTART:20181104T100000
END:STANDARD
BEGIN:DAYLIGHT
TZOFFSETFROM:-0900
TZOFFSETTO:-0800
TZNAME:AKDT
DTSTART:20190310T110000
END:DAYLIGHT
BEGIN:STANDARD
TZOFFSETFROM:-0800
TZOFFSETTO:-0900
TZNAME:AKST
DTSTART:20191103T100000
END:STANDARD
BEGIN:DAYLIGHT
TZOFFSETFROM:-0900
TZOFFSETTO:-0800
TZNAME:AKDT
DTSTART:20200308T110000
END:DAYLIGHT
BEGIN:STANDARD
TZOFFSETFROM:-0800
TZOFFSETTO:-0900
TZNAME:AKST
DTSTART:20201101T100000
END:STANDARD
BEGIN:DAYLIGHT
TZOFFSETFROM:-0900
TZOFFSETTO:-0800
TZNAME:AKDT
DTSTART:20210314T110000
END:DAYLIGHT
BEGIN:STANDARD
TZOFFSETFROM:-0800
TZOFFSETTO:-0900
TZNAME:AKST
DTSTART:20211107T100000
END:STANDARD
BEGIN:DAYLIGHT
TZOFFSETFROM:-0900
TZOFFSETTO:-0800
TZNAME:AKDT
DTSTART:20220313T110000
END:DAYLIGHT
BEGIN:STANDARD
TZOFFSETFROM:-0800
TZOFFSETTO:-0900
TZNAME:AKST
DTSTART:20221106T100000
END:STANDARD
END:VTIMEZONE
BEGIN:VEVENT
DTSTART;VALUE=DATE:20211206
DTEND;VALUE=DATE:20211217
DTSTAMP:20260421T105225
CREATED:20211105T173547Z
LAST-MODIFIED:20211105T173547Z
UID:4565-1638748800-1639699199@arcticslope.org
SUMMARY:Eye Clinic
DESCRIPTION:For more information\, please contact the Eye Clinic directly at (907) 852-9291. \n8:30 a.m. – 12:00 p.m. and 1:00 p.m. – 5:30 p.m.\, Monday – Friday for appointment scheduling\, glasses pick-up\, purchases of sun wear and accessories \nEye exams and glasses/contact lens ordering and repairs are available two (2) weeks each month. \nThe Eye Clinic is closed on ASNA recognized holidays.
URL:https://arcticslope.org/event/eye-clinic-3/
LOCATION:Samuel Simmonds Memorial Hospital\, 7000 Uula St\, Utqiagvik\, AK\, 99723\, United States
CATEGORIES:Eye Clinic Schedule
END:VEVENT
BEGIN:VEVENT
DTSTART;VALUE=DATE:20211108
DTEND;VALUE=DATE:20211119
DTSTAMP:20260421T105225
CREATED:20211105T173202Z
LAST-MODIFIED:20211105T173202Z
UID:4563-1636329600-1637279999@arcticslope.org
SUMMARY:Eye Clinic
DESCRIPTION:For more information\, please contact the Eye Clinic directly at (907) 852-9291. \n8:30 a.m. – 12:00 p.m. and 1:00 p.m. – 5:30 p.m.\, Monday – Friday for appointment scheduling\, glasses pick-up\, purchases of sun wear and accessories \nEye exams and glasses/contact lens ordering and repairs are available two (2) weeks each month. \nThe Eye Clinic is closed on ASNA recognized holidays.
URL:https://arcticslope.org/event/eye-clinic-2/
LOCATION:Samuel Simmonds Memorial Hospital\, 7000 Uula St\, Utqiagvik\, AK\, 99723\, United States
CATEGORIES:Eye Clinic Schedule
END:VEVENT
BEGIN:VEVENT
DTSTART;VALUE=DATE:20210831
DTEND;VALUE=DATE:20210903
DTSTAMP:20260421T105225
CREATED:20210709T170708Z
LAST-MODIFIED:20210709T170708Z
UID:4185-1630368000-1630627199@arcticslope.org
SUMMARY:Eye Clinic
DESCRIPTION:Specialty Clinic appointments are only for those who receive a referral from a Primary Care Provider. For more information\, please contact Specialty Clinic directly at (907) 852-9284 or call toll free at 1 (888) 525-7764.
URL:https://arcticslope.org/event/eye-clinic/
LOCATION:Samuel Simmonds Memorial Hospital\, 7000 Uula St\, Utqiagvik\, AK\, 99723\, United States
CATEGORIES:Eye Clinic Schedule
END:VEVENT
BEGIN:VEVENT
DTSTART;TZID=America/Anchorage:20191209T083000
DTEND;TZID=America/Anchorage:20191212T173000
DTSTAMP:20260421T105225
CREATED:20190911T195536Z
LAST-MODIFIED:20190911T195536Z
UID:947-1575880200-1576171800@arcticslope.org
SUMMARY:Eye Clinic Schedule
DESCRIPTION:[vc_row css_animation=”” row_type=”row” use_row_as_full_screen_section=”no” type=”full_width” angled_section=”no” text_align=”left” background_image_as_pattern=”without_pattern”][vc_column][vc_column_text]These dates are when the Optometrist and Opticians are here in Barrow. Eye exams and glasses/contact lens ordering and repairs are available two (2) weeks each month. \nWe are open Monday – Friday 8:30 a.m. – 12:00 p.m. and 1:00 p.m. – 5:30 p.m.\,  for appointment scheduling\, glasses pick-up\, purchases of sun wear and accessories \nThe Eye Clinic is closed on ASNA recognized holidays \nContact Numbers: \nSSMH Main Line: 907 852 4611 \nDirect Line: 907 852 9291 \nFax Number: 907 852 6215[/vc_column_text][vc_gmaps link=”#E-8_JTNDaWZyYW1lJTIwc3JjJTNEJTIyaHR0cHMlM0ElMkYlMkZ3d3cuZ29vZ2xlLmNvbSUyRm1hcHMlMkZlbWJlZCUzRnBiJTNEJTIxMW0xOCUyMTFtMTIlMjExbTMlMjExZDEyMDIuNzQ0NTExMzE0NDg4NCUyMTJkLTE1Ni43MzExNDk5ODM0NzYlMjEzZDcxLjI5NzE3ODI4NzMwMzE0JTIxMm0zJTIxMWYwJTIxMmYwJTIxM2YwJTIxM20yJTIxMWkxMDI0JTIxMmk3NjglMjE0ZjEzLjElMjEzbTMlMjExbTIlMjExczB4NTBjMmQ3ZjEyMDY2OTFiMyUyNTNBMHhmNTI0ZjcxNjNhMWJmMDdiJTIxMnNTYW11ZWwlMjUyMFNpbW1vbmRzJTI1MjBNZW1vcmlhbCUyNTIwSG9zcGl0YWwlMjE1ZTElMjEzbTIlMjExc2VuJTIxMnN1cyUyMTR2MTU2ODIyNjQyNTA2OSUyMTVtMiUyMTFzZW4lMjEyc3VzJTIyJTIwd2lkdGglM0QlMjI2MDAlMjIlMjBoZWlnaHQlM0QlMjI0NTAlMjIlMjBmcmFtZWJvcmRlciUzRCUyMjAlMjIlMjBzdHlsZSUzRCUyMmJvcmRlciUzQTAlM0IlMjIlMjBhbGxvd2Z1bGxzY3JlZW4lM0QlMjIlMjIlM0UlM0MlMkZpZnJhbWUlM0U=”][/vc_column][/vc_row]
URL:https://arcticslope.org/event/eye-clinic-schedule-2-2-2-2-2-2/
LOCATION:Samuel Simmonds Memorial Hospital\, 7000 Uula St\, Utqiagvik\, AK\, 99723\, United States
CATEGORIES:Eye Clinic Schedule
ATTACH;FMTTYPE=image/jpeg:https://arcticslope.org/wp-content/uploads/2019/09/anuulareports.jpg
END:VEVENT
BEGIN:VEVENT
DTSTART;TZID=America/Anchorage:20191202T083000
DTEND;TZID=America/Anchorage:20191207T173000
DTSTAMP:20260421T105225
CREATED:20190911T195655Z
LAST-MODIFIED:20190911T195655Z
UID:949-1575275400-1575739800@arcticslope.org
SUMMARY:Eye Clinic Schedule
DESCRIPTION:[vc_row css_animation=”” row_type=”row” use_row_as_full_screen_section=”no” type=”full_width” angled_section=”no” text_align=”left” background_image_as_pattern=”without_pattern”][vc_column][vc_column_text]These dates are when the Optometrist and Opticians are here in Barrow. Eye exams and glasses/contact lens ordering and repairs are available two (2) weeks each month. \nWe are open Monday – Friday 8:30 a.m. – 12:00 p.m. and 1:00 p.m. – 5:30 p.m.\,  for appointment scheduling\, glasses pick-up\, purchases of sun wear and accessories \nThe Eye Clinic is closed on ASNA recognized holidays \nContact Numbers: \nSSMH Main Line: 907 852 4611 \nDirect Line: 907 852 9291 \nFax Number: 907 852 6215[/vc_column_text][vc_gmaps link=”#E-8_JTNDaWZyYW1lJTIwc3JjJTNEJTIyaHR0cHMlM0ElMkYlMkZ3d3cuZ29vZ2xlLmNvbSUyRm1hcHMlMkZlbWJlZCUzRnBiJTNEJTIxMW0xOCUyMTFtMTIlMjExbTMlMjExZDEyMDIuNzQ0NTExMzE0NDg4NCUyMTJkLTE1Ni43MzExNDk5ODM0NzYlMjEzZDcxLjI5NzE3ODI4NzMwMzE0JTIxMm0zJTIxMWYwJTIxMmYwJTIxM2YwJTIxM20yJTIxMWkxMDI0JTIxMmk3NjglMjE0ZjEzLjElMjEzbTMlMjExbTIlMjExczB4NTBjMmQ3ZjEyMDY2OTFiMyUyNTNBMHhmNTI0ZjcxNjNhMWJmMDdiJTIxMnNTYW11ZWwlMjUyMFNpbW1vbmRzJTI1MjBNZW1vcmlhbCUyNTIwSG9zcGl0YWwlMjE1ZTElMjEzbTIlMjExc2VuJTIxMnN1cyUyMTR2MTU2ODIyNjQyNTA2OSUyMTVtMiUyMTFzZW4lMjEyc3VzJTIyJTIwd2lkdGglM0QlMjI2MDAlMjIlMjBoZWlnaHQlM0QlMjI0NTAlMjIlMjBmcmFtZWJvcmRlciUzRCUyMjAlMjIlMjBzdHlsZSUzRCUyMmJvcmRlciUzQTAlM0IlMjIlMjBhbGxvd2Z1bGxzY3JlZW4lM0QlMjIlMjIlM0UlM0MlMkZpZnJhbWUlM0U=”][/vc_column][/vc_row]
URL:https://arcticslope.org/event/eye-clinic-schedule-2-2-2-2-2-2-2/
LOCATION:Samuel Simmonds Memorial Hospital\, 7000 Uula St\, Utqiagvik\, AK\, 99723\, United States
CATEGORIES:Eye Clinic Schedule
ATTACH;FMTTYPE=image/jpeg:https://arcticslope.org/wp-content/uploads/2019/09/anuulareports.jpg
END:VEVENT
BEGIN:VEVENT
DTSTART;TZID=America/Anchorage:20191112T083000
DTEND;TZID=America/Anchorage:20191114T173000
DTSTAMP:20260421T105225
CREATED:20190911T192928Z
LAST-MODIFIED:20190912T031012Z
UID:923-1573547400-1573752600@arcticslope.org
SUMMARY:Eye Clinic Schedule
DESCRIPTION:[vc_row css_animation=”” row_type=”row” use_row_as_full_screen_section=”no” type=”full_width” angled_section=”no” text_align=”left” background_image_as_pattern=”without_pattern”][vc_column][vc_column_text]These dates are when the Optometrist and Opticians are here in Barrow. Eye exams and glasses/contact lens ordering and repairs are available two (2) weeks each month. \nWe are open Monday – Friday 8:30 a.m. – 12:00 p.m. and 1:00 p.m. – 5:30 p.m.\,  for appointment scheduling\, glasses pick-up\, purchases of sun wear and accessories \nThe Eye Clinic is closed on ASNA recognized holidays \nContact Numbers: \nSSMH Main Line: 907 852 4611 \nDirect Line: 907 852 9291 \nFax Number: 907 852 6215[/vc_column_text][vc_gmaps link=”#E-8_JTNDaWZyYW1lJTIwc3JjJTNEJTIyaHR0cHMlM0ElMkYlMkZ3d3cuZ29vZ2xlLmNvbSUyRm1hcHMlMkZlbWJlZCUzRnBiJTNEJTIxMW0xOCUyMTFtMTIlMjExbTMlMjExZDEyMDIuNzQ0NTExMzE0NDg4NCUyMTJkLTE1Ni43MzExNDk5ODM0NzYlMjEzZDcxLjI5NzE3ODI4NzMwMzE0JTIxMm0zJTIxMWYwJTIxMmYwJTIxM2YwJTIxM20yJTIxMWkxMDI0JTIxMmk3NjglMjE0ZjEzLjElMjEzbTMlMjExbTIlMjExczB4NTBjMmQ3ZjEyMDY2OTFiMyUyNTNBMHhmNTI0ZjcxNjNhMWJmMDdiJTIxMnNTYW11ZWwlMjUyMFNpbW1vbmRzJTI1MjBNZW1vcmlhbCUyNTIwSG9zcGl0YWwlMjE1ZTElMjEzbTIlMjExc2VuJTIxMnN1cyUyMTR2MTU2ODIyNjQyNTA2OSUyMTVtMiUyMTFzZW4lMjEyc3VzJTIyJTIwd2lkdGglM0QlMjI2MDAlMjIlMjBoZWlnaHQlM0QlMjI0NTAlMjIlMjBmcmFtZWJvcmRlciUzRCUyMjAlMjIlMjBzdHlsZSUzRCUyMmJvcmRlciUzQTAlM0IlMjIlMjBhbGxvd2Z1bGxzY3JlZW4lM0QlMjIlMjIlM0UlM0MlMkZpZnJhbWUlM0U=”][/vc_column][/vc_row]
URL:https://arcticslope.org/event/eye-clinic-schedule-2-2-2-2-2/
LOCATION:Samuel Simmonds Memorial Hospital\, 7000 Uula St\, Utqiagvik\, AK\, 99723\, United States
CATEGORIES:Eye Clinic Schedule
ATTACH;FMTTYPE=image/jpeg:https://arcticslope.org/wp-content/uploads/2019/09/anuulareports.jpg
END:VEVENT
BEGIN:VEVENT
DTSTART;TZID=America/Anchorage:20191104T083000
DTEND;TZID=America/Anchorage:20191109T173000
DTSTAMP:20260421T105225
CREATED:20190911T180549Z
LAST-MODIFIED:20190912T030449Z
UID:878-1572856200-1573320600@arcticslope.org
SUMMARY:Eye Clinic Schedule
DESCRIPTION:[vc_row css_animation=”” row_type=”row” use_row_as_full_screen_section=”no” type=”full_width” angled_section=”no” text_align=”left” background_image_as_pattern=”without_pattern”][vc_column][vc_column_text]These dates are when the Optometrist and Opticians are here in Barrow. Eye exams and glasses/contact lens ordering and repairs are available two (2) weeks each month. \nWe are open Monday – Friday 8:30 a.m. – 12:00 p.m. and 1:00 p.m. – 5:30 p.m.\,  for appointment scheduling\, glasses pick-up\, purchases of sun wear and accessories \nThe Eye Clinic is closed on ASNA recognized holidays \nContact Numbers: \nSSMH Main Line: 907 852 4611 \nDirect Line: 907 852 9291 \nFax Number: 907 852 6215[/vc_column_text][vc_gmaps link=”#E-8_JTNDaWZyYW1lJTIwc3JjJTNEJTIyaHR0cHMlM0ElMkYlMkZ3d3cuZ29vZ2xlLmNvbSUyRm1hcHMlMkZlbWJlZCUzRnBiJTNEJTIxMW0xOCUyMTFtMTIlMjExbTMlMjExZDEyMDIuNzQ0NTExMzE0NDg4NCUyMTJkLTE1Ni43MzExNDk5ODM0NzYlMjEzZDcxLjI5NzE3ODI4NzMwMzE0JTIxMm0zJTIxMWYwJTIxMmYwJTIxM2YwJTIxM20yJTIxMWkxMDI0JTIxMmk3NjglMjE0ZjEzLjElMjEzbTMlMjExbTIlMjExczB4NTBjMmQ3ZjEyMDY2OTFiMyUyNTNBMHhmNTI0ZjcxNjNhMWJmMDdiJTIxMnNTYW11ZWwlMjUyMFNpbW1vbmRzJTI1MjBNZW1vcmlhbCUyNTIwSG9zcGl0YWwlMjE1ZTElMjEzbTIlMjExc2VuJTIxMnN1cyUyMTR2MTU2ODIyNjQyNTA2OSUyMTVtMiUyMTFzZW4lMjEyc3VzJTIyJTIwd2lkdGglM0QlMjI2MDAlMjIlMjBoZWlnaHQlM0QlMjI0NTAlMjIlMjBmcmFtZWJvcmRlciUzRCUyMjAlMjIlMjBzdHlsZSUzRCUyMmJvcmRlciUzQTAlM0IlMjIlMjBhbGxvd2Z1bGxzY3JlZW4lM0QlMjIlMjIlM0UlM0MlMkZpZnJhbWUlM0U=”][/vc_column][/vc_row]
URL:https://arcticslope.org/event/eye-clinic-schedule-2-2-2-2/
LOCATION:Samuel Simmonds Memorial Hospital\, 7000 Uula St\, Utqiagvik\, AK\, 99723\, United States
CATEGORIES:Eye Clinic Schedule
ATTACH;FMTTYPE=image/jpeg:https://arcticslope.org/wp-content/uploads/2019/09/anuulareports.jpg
END:VEVENT
BEGIN:VEVENT
DTSTART;TZID=America/Anchorage:20191015T083000
DTEND;TZID=America/Anchorage:20191017T173000
DTSTAMP:20260421T105225
CREATED:20190911T171854Z
LAST-MODIFIED:20190912T025838Z
UID:853-1571128200-1571333400@arcticslope.org
SUMMARY:Eye Clinic Schedule
DESCRIPTION:[vc_row css_animation=”” row_type=”row” use_row_as_full_screen_section=”no” type=”full_width” angled_section=”no” text_align=”left” background_image_as_pattern=”without_pattern”][vc_column][vc_column_text]These dates are when the Optometrist and Opticians are here in Barrow. Eye exams and glasses/contact lens ordering and repairs are available two (2) weeks each month. \nWe are open Monday – Friday 8:30 a.m. – 12:00 p.m. and 1:00 p.m. – 5:30 p.m.\,  for appointment scheduling\, glasses pick-up\, purchases of sun wear and accessories \nThe Eye Clinic is closed on ASNA recognized holidays \nContact Numbers: \nSSMH Main Line: 907 852 4611 \nDirect Line: 907 852 9291 \nFax Number: 907 852 6215[/vc_column_text][vc_gmaps link=”#E-8_JTNDaWZyYW1lJTIwc3JjJTNEJTIyaHR0cHMlM0ElMkYlMkZ3d3cuZ29vZ2xlLmNvbSUyRm1hcHMlMkZlbWJlZCUzRnBiJTNEJTIxMW0xOCUyMTFtMTIlMjExbTMlMjExZDEyMDIuNzQ0NTExMzE0NDg4NCUyMTJkLTE1Ni43MzExNDk5ODM0NzYlMjEzZDcxLjI5NzE3ODI4NzMwMzE0JTIxMm0zJTIxMWYwJTIxMmYwJTIxM2YwJTIxM20yJTIxMWkxMDI0JTIxMmk3NjglMjE0ZjEzLjElMjEzbTMlMjExbTIlMjExczB4NTBjMmQ3ZjEyMDY2OTFiMyUyNTNBMHhmNTI0ZjcxNjNhMWJmMDdiJTIxMnNTYW11ZWwlMjUyMFNpbW1vbmRzJTI1MjBNZW1vcmlhbCUyNTIwSG9zcGl0YWwlMjE1ZTElMjEzbTIlMjExc2VuJTIxMnN1cyUyMTR2MTU2ODIyNjQyNTA2OSUyMTVtMiUyMTFzZW4lMjEyc3VzJTIyJTIwd2lkdGglM0QlMjI2MDAlMjIlMjBoZWlnaHQlM0QlMjI0NTAlMjIlMjBmcmFtZWJvcmRlciUzRCUyMjAlMjIlMjBzdHlsZSUzRCUyMmJvcmRlciUzQTAlM0IlMjIlMjBhbGxvd2Z1bGxzY3JlZW4lM0QlMjIlMjIlM0UlM0MlMkZpZnJhbWUlM0U=”][/vc_column][/vc_row]
URL:https://arcticslope.org/event/eye-clinic-schedule-2-2-2/
LOCATION:Samuel Simmonds Memorial Hospital\, 7000 Uula St\, Utqiagvik\, AK\, 99723\, United States
CATEGORIES:Eye Clinic Schedule
ATTACH;FMTTYPE=image/jpeg:https://arcticslope.org/wp-content/uploads/2019/09/anuulareports.jpg
END:VEVENT
BEGIN:VEVENT
DTSTART;TZID=America/Anchorage:20191007T083000
DTEND;TZID=America/Anchorage:20191012T173000
DTSTAMP:20260421T105225
CREATED:20190911T170342Z
LAST-MODIFIED:20190912T025725Z
UID:846-1570437000-1570901400@arcticslope.org
SUMMARY:Eye Clinic Schedule
DESCRIPTION:[vc_row css_animation=”” row_type=”row” use_row_as_full_screen_section=”no” type=”full_width” angled_section=”no” text_align=”left” background_image_as_pattern=”without_pattern”][vc_column][vc_column_text]These dates are when the Optometrist and Opticians are here in Barrow. Eye exams and glasses/contact lens ordering and repairs are available two (2) weeks each month. \nWe are open Monday – Friday 8:30 a.m. – 12:00 p.m. and 1:00 p.m. – 5:30 p.m.\,  for appointment scheduling\, glasses pick-up\, purchases of sun wear and accessories \nThe Eye Clinic is closed on ASNA recognized holidays \nContact Numbers: \nSSMH Main Line: 907 852 4611 \nDirect Line: 907 852 9291 \nFax Number: 907 852 6215[/vc_column_text][vc_gmaps link=”#E-8_JTNDaWZyYW1lJTIwc3JjJTNEJTIyaHR0cHMlM0ElMkYlMkZ3d3cuZ29vZ2xlLmNvbSUyRm1hcHMlMkZlbWJlZCUzRnBiJTNEJTIxMW0xOCUyMTFtMTIlMjExbTMlMjExZDEyMDIuNzQ0NTExMzE0NDg4NCUyMTJkLTE1Ni43MzExNDk5ODM0NzYlMjEzZDcxLjI5NzE3ODI4NzMwMzE0JTIxMm0zJTIxMWYwJTIxMmYwJTIxM2YwJTIxM20yJTIxMWkxMDI0JTIxMmk3NjglMjE0ZjEzLjElMjEzbTMlMjExbTIlMjExczB4NTBjMmQ3ZjEyMDY2OTFiMyUyNTNBMHhmNTI0ZjcxNjNhMWJmMDdiJTIxMnNTYW11ZWwlMjUyMFNpbW1vbmRzJTI1MjBNZW1vcmlhbCUyNTIwSG9zcGl0YWwlMjE1ZTElMjEzbTIlMjExc2VuJTIxMnN1cyUyMTR2MTU2ODIyNjQyNTA2OSUyMTVtMiUyMTFzZW4lMjEyc3VzJTIyJTIwd2lkdGglM0QlMjI2MDAlMjIlMjBoZWlnaHQlM0QlMjI0NTAlMjIlMjBmcmFtZWJvcmRlciUzRCUyMjAlMjIlMjBzdHlsZSUzRCUyMmJvcmRlciUzQTAlM0IlMjIlMjBhbGxvd2Z1bGxzY3JlZW4lM0QlMjIlMjIlM0UlM0MlMkZpZnJhbWUlM0U=”][/vc_column][/vc_row]
URL:https://arcticslope.org/event/eye-clinic-schedule-2-2/
LOCATION:Samuel Simmonds Memorial Hospital\, 7000 Uula St\, Utqiagvik\, AK\, 99723\, United States
CATEGORIES:Eye Clinic Schedule
ATTACH;FMTTYPE=image/jpeg:https://arcticslope.org/wp-content/uploads/2019/09/anuulareports.jpg
END:VEVENT
BEGIN:VEVENT
DTSTART;TZID=America/Anchorage:20190916T083000
DTEND;TZID=America/Anchorage:20190919T173000
DTSTAMP:20260421T105225
CREATED:20190911T152510Z
LAST-MODIFIED:20190912T024113Z
UID:806-1568622600-1568914200@arcticslope.org
SUMMARY:Eye Clinic Schedule
DESCRIPTION:[vc_row css_animation=”” row_type=”row” use_row_as_full_screen_section=”no” type=”full_width” angled_section=”no” text_align=”left” background_image_as_pattern=”without_pattern”][vc_column][vc_column_text]These dates are when the Optometrist and Opticians are here in Barrow. Eye exams and glasses/contact lens ordering and repairs are available two (2) weeks each month. \nWe are open Monday – Friday 8:30 a.m. – 12:00 p.m. and 1:00 p.m. – 5:30 p.m.\,  for appointment scheduling\, glasses pick-up\, purchases of sun wear and accessories \nThe Eye Clinic is closed on ASNA recognized holidays \nContact Numbers: \nSSMH Main Line: 907 852 4611 \nDirect Line: 907 852 9291 \nFax Number: 907 852 6215[/vc_column_text][vc_gmaps link=”#E-8_JTNDaWZyYW1lJTIwc3JjJTNEJTIyaHR0cHMlM0ElMkYlMkZ3d3cuZ29vZ2xlLmNvbSUyRm1hcHMlMkZlbWJlZCUzRnBiJTNEJTIxMW0xOCUyMTFtMTIlMjExbTMlMjExZDEyMDIuNzQ0NTExMzE0NDg4NCUyMTJkLTE1Ni43MzExNDk5ODM0NzYlMjEzZDcxLjI5NzE3ODI4NzMwMzE0JTIxMm0zJTIxMWYwJTIxMmYwJTIxM2YwJTIxM20yJTIxMWkxMDI0JTIxMmk3NjglMjE0ZjEzLjElMjEzbTMlMjExbTIlMjExczB4NTBjMmQ3ZjEyMDY2OTFiMyUyNTNBMHhmNTI0ZjcxNjNhMWJmMDdiJTIxMnNTYW11ZWwlMjUyMFNpbW1vbmRzJTI1MjBNZW1vcmlhbCUyNTIwSG9zcGl0YWwlMjE1ZTElMjEzbTIlMjExc2VuJTIxMnN1cyUyMTR2MTU2ODIyNjQyNTA2OSUyMTVtMiUyMTFzZW4lMjEyc3VzJTIyJTIwd2lkdGglM0QlMjI2MDAlMjIlMjBoZWlnaHQlM0QlMjI0NTAlMjIlMjBmcmFtZWJvcmRlciUzRCUyMjAlMjIlMjBzdHlsZSUzRCUyMmJvcmRlciUzQTAlM0IlMjIlMjBhbGxvd2Z1bGxzY3JlZW4lM0QlMjIlMjIlM0UlM0MlMkZpZnJhbWUlM0U=”][/vc_column][/vc_row]
URL:https://arcticslope.org/event/eye-clinic-schedule-2/
LOCATION:Samuel Simmonds Memorial Hospital\, 7000 Uula St\, Utqiagvik\, AK\, 99723\, United States
CATEGORIES:Eye Clinic Schedule
ATTACH;FMTTYPE=image/jpeg:https://arcticslope.org/wp-content/uploads/2019/09/anuulareports.jpg
END:VEVENT
BEGIN:VEVENT
DTSTART;TZID=America/Anchorage:20190911T083000
DTEND;TZID=America/Anchorage:20190915T173000
DTSTAMP:20260421T105225
CREATED:20190820T213941Z
LAST-MODIFIED:20190912T021741Z
UID:47-1568190600-1568568600@arcticslope.org
SUMMARY:Eye Clinic Schedule
DESCRIPTION:[vc_row css_animation=”” row_type=”row” use_row_as_full_screen_section=”no” type=”full_width” angled_section=”no” text_align=”left” background_image_as_pattern=”without_pattern”][vc_column][vc_column_text]These dates are when the Optometrist and Opticians are here in Barrow. Eye exams and glasses/contact lens ordering and repairs are available two (2) weeks each month. \nWe are open Monday – Friday 8:30 a.m. – 12:00 p.m. and 1:00 p.m. – 5:30 p.m.\,  for appointment scheduling\, glasses pick-up\, purchases of sun wear and accessories \nThe Eye Clinic is closed on ASNA recognized holidays \nContact Numbers: \nSSMH Main Line: 907 852 4611 \nDirect Line: 907 852 9291 \nFax Number: 907 852 6215[/vc_column_text][vc_gmaps link=”#E-8_JTNDaWZyYW1lJTIwc3JjJTNEJTIyaHR0cHMlM0ElMkYlMkZ3d3cuZ29vZ2xlLmNvbSUyRm1hcHMlMkZlbWJlZCUzRnBiJTNEJTIxMW0xOCUyMTFtMTIlMjExbTMlMjExZDEyMDIuNzQ0NTExMzE0NDg4NCUyMTJkLTE1Ni43MzExNDk5ODM0NzYlMjEzZDcxLjI5NzE3ODI4NzMwMzE0JTIxMm0zJTIxMWYwJTIxMmYwJTIxM2YwJTIxM20yJTIxMWkxMDI0JTIxMmk3NjglMjE0ZjEzLjElMjEzbTMlMjExbTIlMjExczB4NTBjMmQ3ZjEyMDY2OTFiMyUyNTNBMHhmNTI0ZjcxNjNhMWJmMDdiJTIxMnNTYW11ZWwlMjUyMFNpbW1vbmRzJTI1MjBNZW1vcmlhbCUyNTIwSG9zcGl0YWwlMjE1ZTElMjEzbTIlMjExc2VuJTIxMnN1cyUyMTR2MTU2ODIyNjQyNTA2OSUyMTVtMiUyMTFzZW4lMjEyc3VzJTIyJTIwd2lkdGglM0QlMjI2MDAlMjIlMjBoZWlnaHQlM0QlMjI0NTAlMjIlMjBmcmFtZWJvcmRlciUzRCUyMjAlMjIlMjBzdHlsZSUzRCUyMmJvcmRlciUzQTAlM0IlMjIlMjBhbGxvd2Z1bGxzY3JlZW4lM0QlMjIlMjIlM0UlM0MlMkZpZnJhbWUlM0U=”][/vc_column][/vc_row]
URL:https://arcticslope.org/event/eye-clinic-schedule/
LOCATION:Samuel Simmonds Memorial Hospital\, 7000 Uula St\, Utqiagvik\, AK\, 99723\, United States
CATEGORIES:Eye Clinic Schedule
ATTACH;FMTTYPE=image/jpeg:https://arcticslope.org/wp-content/uploads/2019/09/anuulareports.jpg
END:VEVENT
END:VCALENDAR