BEGIN:VCALENDAR
VERSION:2.0
PRODID:-//Arctic Slope Native Association - ECPv6.15.20//NONSGML v1.0//EN
CALSCALE:GREGORIAN
METHOD:PUBLISH
X-ORIGINAL-URL:https://arcticslope.org
X-WR-CALDESC:Events for Arctic Slope Native Association
REFRESH-INTERVAL;VALUE=DURATION:PT1H
X-Robots-Tag:noindex
X-PUBLISHED-TTL:PT1H
BEGIN:VTIMEZONE
TZID:America/Anchorage
BEGIN:DAYLIGHT
TZOFFSETFROM:-0900
TZOFFSETTO:-0800
TZNAME:AKDT
DTSTART:20210314T110000
END:DAYLIGHT
BEGIN:STANDARD
TZOFFSETFROM:-0800
TZOFFSETTO:-0900
TZNAME:AKST
DTSTART:20211107T100000
END:STANDARD
BEGIN:DAYLIGHT
TZOFFSETFROM:-0900
TZOFFSETTO:-0800
TZNAME:AKDT
DTSTART:20220313T110000
END:DAYLIGHT
BEGIN:STANDARD
TZOFFSETFROM:-0800
TZOFFSETTO:-0900
TZNAME:AKST
DTSTART:20221106T100000
END:STANDARD
BEGIN:DAYLIGHT
TZOFFSETFROM:-0900
TZOFFSETTO:-0800
TZNAME:AKDT
DTSTART:20230312T110000
END:DAYLIGHT
BEGIN:STANDARD
TZOFFSETFROM:-0800
TZOFFSETTO:-0900
TZNAME:AKST
DTSTART:20231105T100000
END:STANDARD
END:VTIMEZONE
BEGIN:VEVENT
DTSTART;VALUE=DATE:20220516
DTEND;VALUE=DATE:20220520
DTSTAMP:20260421T124005
CREATED:20220425T180516Z
LAST-MODIFIED:20220425T180516Z
UID:5242-1652659200-1653004799@arcticslope.org
SUMMARY:Medical Provider Visit|Atqasuk
DESCRIPTION:SSMH Dr. Jiyeon Jeon\, is scheduled to be in Atqasuk. Please call your NSB village health clinic to ensure that your name is on the list with your contact information.
URL:https://arcticslope.org/event/medical-provider-visitatqasuk-4/
LOCATION:Atqasuk Village Health Clinic
CATEGORIES:Medical Provider Visit | Atqasuk
END:VEVENT
BEGIN:VEVENT
DTSTART;VALUE=DATE:20220419
DTEND;VALUE=DATE:20220422
DTSTAMP:20260421T124005
CREATED:20220314T173816Z
LAST-MODIFIED:20220314T173816Z
UID:5086-1650326400-1650585599@arcticslope.org
SUMMARY:Medical Provider Visit|Atqasuk
DESCRIPTION:SSMH Rebecca Andrew\, PA-C is scheduled to be in Atqasuk. Please call your NSB village health clinic to ensure that your name is on the list with your contact information.
URL:https://arcticslope.org/event/medical-provider-visitatqasuk-3/
LOCATION:Atqasuk Village Health Clinic
CATEGORIES:Medical Provider Visit | Atqasuk
END:VEVENT
BEGIN:VEVENT
DTSTART;VALUE=DATE:20220228
DTEND;VALUE=DATE:20220304
DTSTAMP:20260421T124005
CREATED:20220126T001638Z
LAST-MODIFIED:20220126T001638Z
UID:4807-1646006400-1646351999@arcticslope.org
SUMMARY:Medical Provider Visit|Atqasuk
DESCRIPTION:SSMH medical provider Dayna Pridgen\, FNP is scheduled to be in Atqasuk. Please call your NSB village health clinic to ensure that your name is on the list with your contact information.
URL:https://arcticslope.org/event/medical-provider-visitatqasuk-2/
LOCATION:Atqasuk Village Health Clinic
CATEGORIES:Medical Provider Visit | Atqasuk
END:VEVENT
BEGIN:VEVENT
DTSTART;VALUE=DATE:20220221
DTEND;VALUE=DATE:20220225
DTSTAMP:20260421T124005
CREATED:20220126T001325Z
LAST-MODIFIED:20220126T001325Z
UID:4803-1645401600-1645747199@arcticslope.org
SUMMARY:Pediatric Provider Visit|Atqasuk
DESCRIPTION:SSMH medical provider James Askew\, CPNP is scheduled to be in Atqasuk. Please call your NSB village health clinic to ensure that your name is on the list with your contact information.
URL:https://arcticslope.org/event/pediatric-provider-visitatqasuk/
LOCATION:Atqasuk Village Health Clinic
CATEGORIES:Medical Provider Visit | Atqasuk
END:VEVENT
BEGIN:VEVENT
DTSTART;VALUE=DATE:20220208
DTEND;VALUE=DATE:20220211
DTSTAMP:20260421T124005
CREATED:20220125T222804Z
LAST-MODIFIED:20220125T222804Z
UID:4801-1644278400-1644537599@arcticslope.org
SUMMARY:Medical Provider Visit|Atqasuk
DESCRIPTION:SSMH medical provider Dayna Pridgen\, FNP is scheduled to be in Atqasuk. Please call your NSB village health clinic to ensure that your name is on the list with your contact information.
URL:https://arcticslope.org/event/medical-provider-visitatqasuk/
LOCATION:Atqasuk Village Health Clinic
CATEGORIES:Medical Provider Visit | Atqasuk
END:VEVENT
BEGIN:VEVENT
DTSTART;VALUE=DATE:20220125
DTEND;VALUE=DATE:20220128
DTSTAMP:20260421T124005
CREATED:20220124T185110Z
LAST-MODIFIED:20220124T185110Z
UID:4773-1643068800-1643327999@arcticslope.org
SUMMARY:Medical Provider Visit | Atqasuk
DESCRIPTION:To schedule your appointment with Dr. Jiyeon Jeon\, SSMH Physician\, please call your village health clinic to ensure your name is on the list with your current phone number(s).
URL:https://arcticslope.org/event/medical-provider-visit-atqasuk-2/
LOCATION:Atqasuk Village Health Clinic
CATEGORIES:Medical Provider Visit | Atqasuk
END:VEVENT
END:VCALENDAR