BEGIN:VCALENDAR
VERSION:2.0
PRODID:-//Arctic Slope Native Association - ECPv6.15.20//NONSGML v1.0//EN
CALSCALE:GREGORIAN
METHOD:PUBLISH
X-ORIGINAL-URL:https://arcticslope.org
X-WR-CALDESC:Events for Arctic Slope Native Association
REFRESH-INTERVAL;VALUE=DURATION:PT1H
X-Robots-Tag:noindex
X-PUBLISHED-TTL:PT1H
BEGIN:VTIMEZONE
TZID:America/Anchorage
BEGIN:DAYLIGHT
TZOFFSETFROM:-0900
TZOFFSETTO:-0800
TZNAME:AKDT
DTSTART:20180311T110000
END:DAYLIGHT
BEGIN:STANDARD
TZOFFSETFROM:-0800
TZOFFSETTO:-0900
TZNAME:AKST
DTSTART:20181104T100000
END:STANDARD
BEGIN:DAYLIGHT
TZOFFSETFROM:-0900
TZOFFSETTO:-0800
TZNAME:AKDT
DTSTART:20190310T110000
END:DAYLIGHT
BEGIN:STANDARD
TZOFFSETFROM:-0800
TZOFFSETTO:-0900
TZNAME:AKST
DTSTART:20191103T100000
END:STANDARD
BEGIN:DAYLIGHT
TZOFFSETFROM:-0900
TZOFFSETTO:-0800
TZNAME:AKDT
DTSTART:20200308T110000
END:DAYLIGHT
BEGIN:STANDARD
TZOFFSETFROM:-0800
TZOFFSETTO:-0900
TZNAME:AKST
DTSTART:20201101T100000
END:STANDARD
BEGIN:DAYLIGHT
TZOFFSETFROM:-0900
TZOFFSETTO:-0800
TZNAME:AKDT
DTSTART:20210314T110000
END:DAYLIGHT
BEGIN:STANDARD
TZOFFSETFROM:-0800
TZOFFSETTO:-0900
TZNAME:AKST
DTSTART:20211107T100000
END:STANDARD
BEGIN:DAYLIGHT
TZOFFSETFROM:-0900
TZOFFSETTO:-0800
TZNAME:AKDT
DTSTART:20220313T110000
END:DAYLIGHT
BEGIN:STANDARD
TZOFFSETFROM:-0800
TZOFFSETTO:-0900
TZNAME:AKST
DTSTART:20221106T100000
END:STANDARD
BEGIN:DAYLIGHT
TZOFFSETFROM:-0900
TZOFFSETTO:-0800
TZNAME:AKDT
DTSTART:20230312T110000
END:DAYLIGHT
BEGIN:STANDARD
TZOFFSETFROM:-0800
TZOFFSETTO:-0900
TZNAME:AKST
DTSTART:20231105T100000
END:STANDARD
END:VTIMEZONE
BEGIN:VEVENT
DTSTART;VALUE=DATE:20220405
DTEND;VALUE=DATE:20220408
DTSTAMP:20260421T113618
CREATED:20220314T173921Z
LAST-MODIFIED:20220329T215518Z
UID:5088-1649116800-1649375999@arcticslope.org
SUMMARY:Cardiology Visit|Kaktovik
DESCRIPTION:SSMH Dr. Robert Orr\, MD is scheduled to be in Kaktovik. Please call your NSB village health clinic to ensure that your name is on the list with your contact information.
URL:https://arcticslope.org/event/cardiology-visitwainwright/
LOCATION:Kaktovik Village Health Clinic
CATEGORIES:Medical Provider Visit | Kaktovik,Medical Provider Visit | Wainwright
END:VEVENT
BEGIN:VEVENT
DTSTART;VALUE=DATE:20220201
DTEND;VALUE=DATE:20220205
DTSTAMP:20260421T113618
CREATED:20220126T003904Z
LAST-MODIFIED:20220126T003904Z
UID:4829-1643673600-1644019199@arcticslope.org
SUMMARY:Medical Provider Visit|Kaktovik
DESCRIPTION:SSMH medical provider Rebecca Andrew\, PA-C is scheduled to be in Kaktovik. Please call your NSB village health clinic to ensure that your name is on the list with your contact information.
URL:https://arcticslope.org/event/medical-provider-visitkaktovik/
LOCATION:Kaktovik Village Health Clinic
CATEGORIES:Medical Provider Visit | Kaktovik
END:VEVENT
BEGIN:VEVENT
DTSTART;VALUE=DATE:20211130
DTEND;VALUE=DATE:20211203
DTSTAMP:20260421T113618
CREATED:20211102T234628Z
LAST-MODIFIED:20211102T234628Z
UID:4540-1638230400-1638489599@arcticslope.org
SUMMARY:Medical Provider Visit | Kaktovik
DESCRIPTION:Specialty Clinic appointments are only for those who receive a referral from a Primary Care Provider. For more information\, please contact Specialty Clinic directly at (907) 852-9284 or call toll free at 1 (888) 525-7764.
URL:https://arcticslope.org/event/medical-provider-visit-kaktovik-3/
LOCATION:Kaktovik Village Health Clinic
CATEGORIES:Medical Provider Visit | Kaktovik
END:VEVENT
BEGIN:VEVENT
DTSTART;TZID=America/Anchorage:20191118T083000
DTEND;TZID=America/Anchorage:20191122T173000
DTSTAMP:20260421T113618
CREATED:20190911T194103Z
LAST-MODIFIED:20190911T194147Z
UID:931-1574065800-1574443800@arcticslope.org
SUMMARY:Medical Provider Visit | Kaktovik
DESCRIPTION:[vc_row css_animation=”” row_type=”row” use_row_as_full_screen_section=”no” type=”full_width” angled_section=”no” text_align=”left” background_image_as_pattern=”without_pattern”][vc_column][vc_column_text]To schedule your appointment with Becky Andrew\, SSMH Physician Assistant\, please call your village health clinic to ensure your name is on the list with your current phone number(s).[/vc_column_text][vc_gmaps link=”#E-8_JTNDaWZyYW1lJTIwc3JjJTNEJTIyaHR0cHMlM0ElMkYlMkZ3d3cuZ29vZ2xlLmNvbSUyRm1hcHMlMkZlbWJlZCUzRnBiJTNEJTIxMW0xOCUyMTFtMTIlMjExbTMlMjExZDI2NTEuMDM1OTI5NzQyMTIlMjEyZC0xNDMuNjE0Mjg4MTkyOTcwNDYlMjEzZDcwLjEyNjk0NzQyMTgxMDA0JTIxMm0zJTIxMWYwJTIxMmYwJTIxM2YwJTIxM20yJTIxMWkxMDI0JTIxMmk3NjglMjE0ZjEzLjElMjEzbTMlMjExbTIlMjExczB4NTExOGI0YzIzOTYxNmUwNSUyNTNBMHg0MmE5NWU0YzIzYzA0NzUxJTIxMnNLYWt0b3ZpayUyNTJDJTI1MjBBSyUyMTVlMSUyMTNtMiUyMTFzZW4lMjEyc3VzJTIxNHYxNTY4MjMwODQwMTQ2JTIxNW0yJTIxMXNlbiUyMTJzdXMlMjIlMjB3aWR0aCUzRCUyMjYwMCUyMiUyMGhlaWdodCUzRCUyMjQ1MCUyMiUyMGZyYW1lYm9yZGVyJTNEJTIyMCUyMiUyMHN0eWxlJTNEJTIyYm9yZGVyJTNBMCUzQiUyMiUyMGFsbG93ZnVsbHNjcmVlbiUzRCUyMiUyMiUzRSUzQyUyRmlmcmFtZSUzRQ==”][/vc_column][/vc_row]
URL:https://arcticslope.org/event/medical-provider-visit-kaktovik-2/
LOCATION:Kaktovik Village Health Clinic
CATEGORIES:Medical Provider Visit | Kaktovik
ATTACH;FMTTYPE=image/jpeg:https://arcticslope.org/wp-content/uploads/2019/09/dental2.jpg
END:VEVENT
BEGIN:VEVENT
DTSTART;TZID=America/Anchorage:20190909T083000
DTEND;TZID=America/Anchorage:20190913T173000
DTSTAMP:20260421T113618
CREATED:20190911T154900Z
LAST-MODIFIED:20190912T022200Z
UID:817-1568017800-1568395800@arcticslope.org
SUMMARY:Medical Provider Visit | Kaktovik
DESCRIPTION:[vc_row css_animation=”” row_type=”row” use_row_as_full_screen_section=”no” type=”full_width” angled_section=”no” text_align=”left” background_image_as_pattern=”without_pattern”][vc_column][vc_column_text]To schedule your appointment with Becky Andrew\, SSMH Physician Assistant\, please call your village health clinic to ensure your name is on the list with your current phone number(s).[/vc_column_text][vc_gmaps link=”#E-8_JTNDaWZyYW1lJTIwc3JjJTNEJTIyaHR0cHMlM0ElMkYlMkZ3d3cuZ29vZ2xlLmNvbSUyRm1hcHMlMkZlbWJlZCUzRnBiJTNEJTIxMW0xOCUyMTFtMTIlMjExbTMlMjExZDI2NTEuMDM1OTI5NzQyMTIlMjEyZC0xNDMuNjE0Mjg4MTkyOTcwNDYlMjEzZDcwLjEyNjk0NzQyMTgxMDA0JTIxMm0zJTIxMWYwJTIxMmYwJTIxM2YwJTIxM20yJTIxMWkxMDI0JTIxMmk3NjglMjE0ZjEzLjElMjEzbTMlMjExbTIlMjExczB4NTExOGI0YzIzOTYxNmUwNSUyNTNBMHg0MmE5NWU0YzIzYzA0NzUxJTIxMnNLYWt0b3ZpayUyNTJDJTI1MjBBSyUyMTVlMSUyMTNtMiUyMTFzZW4lMjEyc3VzJTIxNHYxNTY4MjU0ODI4MzE0JTIxNW0yJTIxMXNlbiUyMTJzdXMlMjIlMjB3aWR0aCUzRCUyMjYwMCUyMiUyMGhlaWdodCUzRCUyMjQ1MCUyMiUyMGZyYW1lYm9yZGVyJTNEJTIyMCUyMiUyMHN0eWxlJTNEJTIyYm9yZGVyJTNBMCUzQiUyMiUyMGFsbG93ZnVsbHNjcmVlbiUzRCUyMiUyMiUzRSUzQyUyRmlmcmFtZSUzRQ==”][/vc_column][/vc_row]
URL:https://arcticslope.org/event/medical-provider-visit-kaktovik/
LOCATION:Samuel Simmonds Memorial Hospital\, 7000 Uula St\, Utqiagvik\, AK\, 99723\, United States
CATEGORIES:Medical Provider Visit | Kaktovik
ATTACH;FMTTYPE=image/jpeg:https://arcticslope.org/wp-content/uploads/2019/09/provider.jpg
END:VEVENT
END:VCALENDAR