BEGIN:VCALENDAR
VERSION:2.0
PRODID:-//Arctic Slope Native Association - ECPv6.15.20//NONSGML v1.0//EN
CALSCALE:GREGORIAN
METHOD:PUBLISH
X-WR-CALNAME:Arctic Slope Native Association
X-ORIGINAL-URL:https://arcticslope.org
X-WR-CALDESC:Events for Arctic Slope Native Association
REFRESH-INTERVAL;VALUE=DURATION:PT1H
X-Robots-Tag:noindex
X-PUBLISHED-TTL:PT1H
BEGIN:VTIMEZONE
TZID:America/Anchorage
BEGIN:DAYLIGHT
TZOFFSETFROM:-0900
TZOFFSETTO:-0800
TZNAME:AKDT
DTSTART:20180311T110000
END:DAYLIGHT
BEGIN:STANDARD
TZOFFSETFROM:-0800
TZOFFSETTO:-0900
TZNAME:AKST
DTSTART:20181104T100000
END:STANDARD
BEGIN:DAYLIGHT
TZOFFSETFROM:-0900
TZOFFSETTO:-0800
TZNAME:AKDT
DTSTART:20190310T110000
END:DAYLIGHT
BEGIN:STANDARD
TZOFFSETFROM:-0800
TZOFFSETTO:-0900
TZNAME:AKST
DTSTART:20191103T100000
END:STANDARD
BEGIN:DAYLIGHT
TZOFFSETFROM:-0900
TZOFFSETTO:-0800
TZNAME:AKDT
DTSTART:20200308T110000
END:DAYLIGHT
BEGIN:STANDARD
TZOFFSETFROM:-0800
TZOFFSETTO:-0900
TZNAME:AKST
DTSTART:20201101T100000
END:STANDARD
BEGIN:DAYLIGHT
TZOFFSETFROM:-0900
TZOFFSETTO:-0800
TZNAME:AKDT
DTSTART:20210314T110000
END:DAYLIGHT
BEGIN:STANDARD
TZOFFSETFROM:-0800
TZOFFSETTO:-0900
TZNAME:AKST
DTSTART:20211107T100000
END:STANDARD
BEGIN:DAYLIGHT
TZOFFSETFROM:-0900
TZOFFSETTO:-0800
TZNAME:AKDT
DTSTART:20220313T110000
END:DAYLIGHT
BEGIN:STANDARD
TZOFFSETFROM:-0800
TZOFFSETTO:-0900
TZNAME:AKST
DTSTART:20221106T100000
END:STANDARD
BEGIN:DAYLIGHT
TZOFFSETFROM:-0900
TZOFFSETTO:-0800
TZNAME:AKDT
DTSTART:20230312T110000
END:DAYLIGHT
BEGIN:STANDARD
TZOFFSETFROM:-0800
TZOFFSETTO:-0900
TZNAME:AKST
DTSTART:20231105T100000
END:STANDARD
END:VTIMEZONE
BEGIN:VEVENT
DTSTART;VALUE=DATE:20220516
DTEND;VALUE=DATE:20220520
DTSTAMP:20260421T091305
CREATED:20220425T181525Z
LAST-MODIFIED:20220425T181525Z
UID:5260-1652659200-1653004799@arcticslope.org
SUMMARY:Medical Provider Visit|Point Lay
DESCRIPTION:SSMH CPNP\, James Askew is scheduled to be in Point Lay. Please call your NSB village health clinic to ensure that your name is on the list with your contact information.
URL:https://arcticslope.org/event/medical-provider-visitpoint-lay-3/
LOCATION:Point Lay Village Health Clinic
CATEGORIES:Medical Provider Visit | Point Lay
END:VEVENT
BEGIN:VEVENT
DTSTART;VALUE=DATE:20220503
DTEND;VALUE=DATE:20220507
DTSTAMP:20260421T091305
CREATED:20220425T181259Z
LAST-MODIFIED:20220425T181259Z
UID:5256-1651536000-1651881599@arcticslope.org
SUMMARY:Medical Provider Visit|Point Lay
DESCRIPTION:SSMH Dr. Jiyeon Jeon is scheduled to be in Point Lay. Please call your NSB village health clinic to ensure that your name is on the list with your contact information.
URL:https://arcticslope.org/event/medical-provider-visitpoint-lay-2/
LOCATION:Point Lay Village Health Clinic
CATEGORIES:Medical Provider Visit | Point Lay
END:VEVENT
BEGIN:VEVENT
DTSTART;VALUE=DATE:20220221
DTEND;VALUE=DATE:20220225
DTSTAMP:20260421T091305
CREATED:20220126T003601Z
LAST-MODIFIED:20220126T003601Z
UID:4825-1645401600-1645747199@arcticslope.org
SUMMARY:Medical Provider Visit|Point Lay
DESCRIPTION:SSMH medical provider Dayna Pridgen\, FNP is scheduled to be in Point Lay. Please call your NSB village health clinic to ensure that your name is on the list with your contact information.
URL:https://arcticslope.org/event/medical-provider-visitpoint-lay/
LOCATION:Point Lay Village Health Clinic
CATEGORIES:Medical Provider Visit | Point Lay
END:VEVENT
BEGIN:VEVENT
DTSTART;VALUE=DATE:20220214
DTEND;VALUE=DATE:20220218
DTSTAMP:20260421T091305
CREATED:20220126T003330Z
LAST-MODIFIED:20220126T003330Z
UID:4821-1644796800-1645142399@arcticslope.org
SUMMARY:Pediatric Provider Visit|Point Lay
DESCRIPTION:SSMH medical provider James Askew\, CPNP is scheduled to be in Point Lay. Please call your NSB village health clinic to ensure that your name is on the list with your contact information.
URL:https://arcticslope.org/event/pediatric-provider-visitpoint-lay/
LOCATION:Point Lay Village Health Clinic
CATEGORIES:Medical Provider Visit | Point Lay
END:VEVENT
BEGIN:VEVENT
DTSTART;TZID=America/Anchorage:20191202T083000
DTEND;TZID=America/Anchorage:20191206T173000
DTSTAMP:20260421T091305
CREATED:20190911T195855Z
LAST-MODIFIED:20190911T195855Z
UID:951-1575275400-1575653400@arcticslope.org
SUMMARY:Medical Provider Visit | Point Lay
DESCRIPTION:[vc_row css_animation=”” row_type=”row” use_row_as_full_screen_section=”no” type=”full_width” angled_section=”no” text_align=”left” background_image_as_pattern=”without_pattern”][vc_column][vc_column_text]To schedule your appointment with Becky Andrew\, SSMH Physician Assistant\, please call your village health clinic to ensure your name is on the list with your current phone number(s).[/vc_column_text][vc_gmaps link=”#E-8_JTNDaWZyYW1lJTIwc3JjJTNEJTIyaHR0cHMlM0ElMkYlMkZ3d3cuZ29vZ2xlLmNvbSUyRm1hcHMlMkZlbWJlZCUzRnBiJTNEJTIxMW0xOCUyMTFtMTIlMjExbTMlMjExZDEzNTIuMzI2NDI3MzUwNDMxNyUyMTJkLTE2My4wMTEzMjkzMDAyMTU5OCUyMTNkNjkuNzQxNDQ4ODgzNDM4NTglMjEybTMlMjExZjAlMjEyZjAlMjEzZjAlMjEzbTIlMjExaTEwMjQlMjEyaTc2OCUyMTRmMTMuMSUyMTNtMyUyMTFtMiUyMTFzMHg1MGM2MWJkODk5NmVmNjA1JTI1M0EweDEzYjJlZGU5Yjg1NGNjMzIlMjEyc1VuaXRlZCUyNTIwU3RhdGVzJTI1MjBQb3N0YWwlMjUyMFNlcnZpY2UlMjE1ZTElMjEzbTIlMjExc2VuJTIxMnN1cyUyMTR2MTU2ODIyNzg0MDA4MiUyMTVtMiUyMTFzZW4lMjEyc3VzJTIyJTIwd2lkdGglM0QlMjI2MDAlMjIlMjBoZWlnaHQlM0QlMjI0NTAlMjIlMjBmcmFtZWJvcmRlciUzRCUyMjAlMjIlMjBzdHlsZSUzRCUyMmJvcmRlciUzQTAlM0IlMjIlMjBhbGxvd2Z1bGxzY3JlZW4lM0QlMjIlMjIlM0UlM0MlMkZpZnJhbWUlM0U=”][/vc_column][/vc_row]
URL:https://arcticslope.org/event/point-lay-2/
LOCATION:Point Lay Village Health Clinic
CATEGORIES:Medical Provider Visit | Point Lay
ATTACH;FMTTYPE=image/jpeg:https://arcticslope.org/wp-content/uploads/2019/09/pointlay.jpg
END:VEVENT
BEGIN:VEVENT
DTSTART;TZID=America/Anchorage:20191021T083000
DTEND;TZID=America/Anchorage:20191025T173000
DTSTAMP:20260421T091305
CREATED:20190911T173748Z
LAST-MODIFIED:20190912T030150Z
UID:865-1571646600-1572024600@arcticslope.org
SUMMARY:Medical Provider Visit | Point Lay
DESCRIPTION:[vc_row css_animation=”” row_type=”row” use_row_as_full_screen_section=”no” type=”full_width” angled_section=”no” text_align=”left” background_image_as_pattern=”without_pattern”][vc_column][vc_column_text]To schedule your appointment with Becky Andrew\, SSMH Physician Assistant\, please call your village health clinic to ensure your name is on the list with your current phone number(s).[/vc_column_text][vc_gmaps link=”#E-8_JTNDaWZyYW1lJTIwc3JjJTNEJTIyaHR0cHMlM0ElMkYlMkZ3d3cuZ29vZ2xlLmNvbSUyRm1hcHMlMkZlbWJlZCUzRnBiJTNEJTIxMW0xOCUyMTFtMTIlMjExbTMlMjExZDEzNTIuMzI2NDI3MzUwNDMxNyUyMTJkLTE2My4wMTEzMjkzMDAyMTU5OCUyMTNkNjkuNzQxNDQ4ODgzNDM4NTglMjEybTMlMjExZjAlMjEyZjAlMjEzZjAlMjEzbTIlMjExaTEwMjQlMjEyaTc2OCUyMTRmMTMuMSUyMTNtMyUyMTFtMiUyMTFzMHg1MGM2MWJkODk5NmVmNjA1JTI1M0EweDEzYjJlZGU5Yjg1NGNjMzIlMjEyc1VuaXRlZCUyNTIwU3RhdGVzJTI1MjBQb3N0YWwlMjUyMFNlcnZpY2UlMjE1ZTElMjEzbTIlMjExc2VuJTIxMnN1cyUyMTR2MTU2ODIyNzg0MDA4MiUyMTVtMiUyMTFzZW4lMjEyc3VzJTIyJTIwd2lkdGglM0QlMjI2MDAlMjIlMjBoZWlnaHQlM0QlMjI0NTAlMjIlMjBmcmFtZWJvcmRlciUzRCUyMjAlMjIlMjBzdHlsZSUzRCUyMmJvcmRlciUzQTAlM0IlMjIlMjBhbGxvd2Z1bGxzY3JlZW4lM0QlMjIlMjIlM0UlM0MlMkZpZnJhbWUlM0U=”][/vc_column][/vc_row]
URL:https://arcticslope.org/event/point-lay/
LOCATION:Point Lay Village Health Clinic
CATEGORIES:Medical Provider Visit | Point Lay
ATTACH;FMTTYPE=image/jpeg:https://arcticslope.org/wp-content/uploads/2019/09/pointlay.jpg
END:VEVENT
END:VCALENDAR