BEGIN:VCALENDAR
VERSION:2.0
PRODID:-//Arctic Slope Native Association - ECPv6.15.20//NONSGML v1.0//EN
CALSCALE:GREGORIAN
METHOD:PUBLISH
X-ORIGINAL-URL:https://arcticslope.org
X-WR-CALDESC:Events for Arctic Slope Native Association
REFRESH-INTERVAL;VALUE=DURATION:PT1H
X-Robots-Tag:noindex
X-PUBLISHED-TTL:PT1H
BEGIN:VTIMEZONE
TZID:America/Anchorage
BEGIN:DAYLIGHT
TZOFFSETFROM:-0900
TZOFFSETTO:-0800
TZNAME:AKDT
DTSTART:20180311T110000
END:DAYLIGHT
BEGIN:STANDARD
TZOFFSETFROM:-0800
TZOFFSETTO:-0900
TZNAME:AKST
DTSTART:20181104T100000
END:STANDARD
BEGIN:DAYLIGHT
TZOFFSETFROM:-0900
TZOFFSETTO:-0800
TZNAME:AKDT
DTSTART:20190310T110000
END:DAYLIGHT
BEGIN:STANDARD
TZOFFSETFROM:-0800
TZOFFSETTO:-0900
TZNAME:AKST
DTSTART:20191103T100000
END:STANDARD
BEGIN:DAYLIGHT
TZOFFSETFROM:-0900
TZOFFSETTO:-0800
TZNAME:AKDT
DTSTART:20200308T110000
END:DAYLIGHT
BEGIN:STANDARD
TZOFFSETFROM:-0800
TZOFFSETTO:-0900
TZNAME:AKST
DTSTART:20201101T100000
END:STANDARD
BEGIN:DAYLIGHT
TZOFFSETFROM:-0900
TZOFFSETTO:-0800
TZNAME:AKDT
DTSTART:20210314T110000
END:DAYLIGHT
BEGIN:STANDARD
TZOFFSETFROM:-0800
TZOFFSETTO:-0900
TZNAME:AKST
DTSTART:20211107T100000
END:STANDARD
BEGIN:DAYLIGHT
TZOFFSETFROM:-0900
TZOFFSETTO:-0800
TZNAME:AKDT
DTSTART:20220313T110000
END:DAYLIGHT
BEGIN:STANDARD
TZOFFSETFROM:-0800
TZOFFSETTO:-0900
TZNAME:AKST
DTSTART:20221106T100000
END:STANDARD
BEGIN:DAYLIGHT
TZOFFSETFROM:-0900
TZOFFSETTO:-0800
TZNAME:AKDT
DTSTART:20230312T110000
END:DAYLIGHT
BEGIN:STANDARD
TZOFFSETFROM:-0800
TZOFFSETTO:-0900
TZNAME:AKST
DTSTART:20231105T100000
END:STANDARD
END:VTIMEZONE
BEGIN:VEVENT
DTSTART;VALUE=DATE:20221018
DTEND;VALUE=DATE:20221021
DTSTAMP:20260421T105453
CREATED:20220909T163740Z
LAST-MODIFIED:20220909T163740Z
UID:5881-1666051200-1666310399@arcticslope.org
SUMMARY:Orthopedic Clinic
DESCRIPTION:Specialty Clinic appointments are only for those who receive a referral from a Primary Care Provider.\nFor more information\, please contact Specialty Clinic directly at (907) 852-9284 or call toll free at 1 (888) 525-7764.
URL:https://arcticslope.org/event/orthopedic-clinic-6/
LOCATION:Samuel Simmonds Memorial Hospital\, 7000 Uula St\, Utqiagvik\, AK\, 99723\, United States
CATEGORIES:Orthopedic Clinic
END:VEVENT
BEGIN:VEVENT
DTSTART;VALUE=DATE:20220426
DTEND;VALUE=DATE:20220429
DTSTAMP:20260421T105453
CREATED:20220314T171930Z
LAST-MODIFIED:20220314T171930Z
UID:5070-1650931200-1651190399@arcticslope.org
SUMMARY:Orthopedics Clinic
DESCRIPTION:Specialty Clinic appointments are only for those who receive a referral from a Primary Care Provider.\nFor more information\, please contact Specialty Clinic directly at (907) 852-9284 or call toll free at 1 (888) 525-7764.
URL:https://arcticslope.org/event/orthopedics-clinic/
LOCATION:Samuel Simmonds Memorial Hospital\, 7000 Uula St\, Utqiagvik\, AK\, 99723\, United States
CATEGORIES:Orthopedic Clinic
END:VEVENT
BEGIN:VEVENT
DTSTART;VALUE=DATE:20220201
DTEND;VALUE=DATE:20220204
DTSTAMP:20260421T105453
CREATED:20220124T191044Z
LAST-MODIFIED:20220124T191044Z
UID:4787-1643673600-1643932799@arcticslope.org
SUMMARY:Orthopedic Clinic
DESCRIPTION:Specialty Clinic appointments are only for those who receive a referral from a Primary Care Provider. For more information\, please contact Specialty Clinic directly at (907) 852-9284 or call toll free at 1 (888) 525-7764.
URL:https://arcticslope.org/event/orthopedic-clinic-5/
LOCATION:Samuel Simmonds Memorial Hospital\, 7000 Uula St\, Utqiagvik\, AK\, 99723\, United States
CATEGORIES:Orthopedic Clinic
END:VEVENT
BEGIN:VEVENT
DTSTART;VALUE=DATE:20211012
DTEND;VALUE=DATE:20211015
DTSTAMP:20260421T105453
CREATED:20211006T002430Z
LAST-MODIFIED:20211006T002430Z
UID:4450-1633996800-1634255999@arcticslope.org
SUMMARY:Orthopedic Clinic
DESCRIPTION:Specialty Clinic appointments are only for those who receive a referral from a Primary Care Provider. For more information\, please contact Specialty Clinic directly at (907) 852-9284 or call toll free at 1 (888) 525-7764.
URL:https://arcticslope.org/event/orthopedic-clinic-4/
LOCATION:Samuel Simmonds Memorial Hospital\, 7000 Uula St\, Utqiagvik\, AK\, 99723\, United States
CATEGORIES:Orthopedic Clinic
END:VEVENT
BEGIN:VEVENT
DTSTART;VALUE=DATE:20210817
DTEND;VALUE=DATE:20210820
DTSTAMP:20260421T105453
CREATED:20210709T170437Z
LAST-MODIFIED:20210709T170437Z
UID:4181-1629158400-1629417599@arcticslope.org
SUMMARY:Orthopedic Clinic
DESCRIPTION:Specialty Clinic appointments are only for those who receive a referral from a Primary Care Provider. For more information\, please contact Specialty Clinic directly at (907) 852-9284 or call toll free at 1 (888) 525-7764.
URL:https://arcticslope.org/event/orthopedic-clinic-3/
LOCATION:Samuel Simmonds Memorial Hospital\, 7000 Uula St\, Utqiagvik\, AK\, 99723\, United States
CATEGORIES:Orthopedic Clinic
END:VEVENT
BEGIN:VEVENT
DTSTART;TZID=America/Anchorage:20191022T083000
DTEND;TZID=America/Anchorage:20191024T173000
DTSTAMP:20260421T105453
CREATED:20190911T174219Z
LAST-MODIFIED:20190911T183237Z
UID:869-1571733000-1571938200@arcticslope.org
SUMMARY:Orthopedic Clinic
DESCRIPTION:[vc_row css_animation=”” row_type=”row” use_row_as_full_screen_section=”no” type=”full_width” angled_section=”no” text_align=”left” background_image_as_pattern=”without_pattern”][vc_column][vc_column_text] \nTue\, October 22\, 2019 – Thu\, October 24\, 2019 \nLocation: Samuel Simmonds Memorial Hospital \nSpecialty Clinic appointments are only for those who receive a referral from a Primary Care Provider. \nFor more information\, please contact Specialty Clinic directly at (907) 852-9284 or call toll free at 1 (888) 525-7764.[/vc_column_text][vc_gmaps link=”#E-8_JTNDaWZyYW1lJTIwc3JjJTNEJTIyaHR0cHMlM0ElMkYlMkZ3d3cuZ29vZ2xlLmNvbSUyRm1hcHMlMkZlbWJlZCUzRnBiJTNEJTIxMW0xOCUyMTFtMTIlMjExbTMlMjExZDEyMDIuNzQ0NTExMzE0NDg4NCUyMTJkLTE1Ni43MzExNDk5ODM0NzYlMjEzZDcxLjI5NzE3ODI4NzMwMzE0JTIxMm0zJTIxMWYwJTIxMmYwJTIxM2YwJTIxM20yJTIxMWkxMDI0JTIxMmk3NjglMjE0ZjEzLjElMjEzbTMlMjExbTIlMjExczB4NTBjMmQ3ZjEyMDY2OTFiMyUyNTNBMHhmNTI0ZjcxNjNhMWJmMDdiJTIxMnNTYW11ZWwlMjUyMFNpbW1vbmRzJTI1MjBNZW1vcmlhbCUyNTIwSG9zcGl0YWwlMjE1ZTElMjEzbTIlMjExc2VuJTIxMnN1cyUyMTR2MTU2ODIyNjQyNTA2OSUyMTVtMiUyMTFzZW4lMjEyc3VzJTIyJTIwd2lkdGglM0QlMjI2MDAlMjIlMjBoZWlnaHQlM0QlMjI0NTAlMjIlMjBmcmFtZWJvcmRlciUzRCUyMjAlMjIlMjBzdHlsZSUzRCUyMmJvcmRlciUzQTAlM0IlMjIlMjBhbGxvd2Z1bGxzY3JlZW4lM0QlMjIlMjIlM0UlM0MlMkZpZnJhbWUlM0U=”][/vc_column][/vc_row]
URL:https://arcticslope.org/event/orthopedic-clinic/
LOCATION:Samuel Simmonds Memorial Hospital\, 7000 Uula St\, Utqiagvik\, AK\, 99723\, United States
CATEGORIES:Orthopedic Clinic
ATTACH;FMTTYPE=image/jpeg:https://arcticslope.org/wp-content/uploads/2019/09/orth.jpg
END:VEVENT
END:VCALENDAR