BEGIN:VCALENDAR
VERSION:2.0
PRODID:-//Arctic Slope Native Association - ECPv6.15.20//NONSGML v1.0//EN
CALSCALE:GREGORIAN
METHOD:PUBLISH
X-WR-CALNAME:Arctic Slope Native Association
X-ORIGINAL-URL:https://arcticslope.org
X-WR-CALDESC:Events for Arctic Slope Native Association
REFRESH-INTERVAL;VALUE=DURATION:PT1H
X-Robots-Tag:noindex
X-PUBLISHED-TTL:PT1H
BEGIN:VTIMEZONE
TZID:America/Anchorage
BEGIN:DAYLIGHT
TZOFFSETFROM:-0900
TZOFFSETTO:-0800
TZNAME:AKDT
DTSTART:20180311T110000
END:DAYLIGHT
BEGIN:STANDARD
TZOFFSETFROM:-0800
TZOFFSETTO:-0900
TZNAME:AKST
DTSTART:20181104T100000
END:STANDARD
BEGIN:DAYLIGHT
TZOFFSETFROM:-0900
TZOFFSETTO:-0800
TZNAME:AKDT
DTSTART:20190310T110000
END:DAYLIGHT
BEGIN:STANDARD
TZOFFSETFROM:-0800
TZOFFSETTO:-0900
TZNAME:AKST
DTSTART:20191103T100000
END:STANDARD
BEGIN:DAYLIGHT
TZOFFSETFROM:-0900
TZOFFSETTO:-0800
TZNAME:AKDT
DTSTART:20200308T110000
END:DAYLIGHT
BEGIN:STANDARD
TZOFFSETFROM:-0800
TZOFFSETTO:-0900
TZNAME:AKST
DTSTART:20201101T100000
END:STANDARD
BEGIN:DAYLIGHT
TZOFFSETFROM:-0900
TZOFFSETTO:-0800
TZNAME:AKDT
DTSTART:20210314T110000
END:DAYLIGHT
BEGIN:STANDARD
TZOFFSETFROM:-0800
TZOFFSETTO:-0900
TZNAME:AKST
DTSTART:20211107T100000
END:STANDARD
BEGIN:DAYLIGHT
TZOFFSETFROM:-0900
TZOFFSETTO:-0800
TZNAME:AKDT
DTSTART:20220313T110000
END:DAYLIGHT
BEGIN:STANDARD
TZOFFSETFROM:-0800
TZOFFSETTO:-0900
TZNAME:AKST
DTSTART:20221106T100000
END:STANDARD
BEGIN:DAYLIGHT
TZOFFSETFROM:-0900
TZOFFSETTO:-0800
TZNAME:AKDT
DTSTART:20230312T110000
END:DAYLIGHT
BEGIN:STANDARD
TZOFFSETFROM:-0800
TZOFFSETTO:-0900
TZNAME:AKST
DTSTART:20231105T100000
END:STANDARD
BEGIN:DAYLIGHT
TZOFFSETFROM:-0900
TZOFFSETTO:-0800
TZNAME:AKDT
DTSTART:20240310T110000
END:DAYLIGHT
BEGIN:STANDARD
TZOFFSETFROM:-0800
TZOFFSETTO:-0900
TZNAME:AKST
DTSTART:20241103T100000
END:STANDARD
END:VTIMEZONE
BEGIN:VEVENT
DTSTART;VALUE=DATE:20230102
DTEND;VALUE=DATE:20230103
DTSTAMP:20260420T033056
CREATED:20220916T211545Z
LAST-MODIFIED:20220916T211545Z
UID:5900-1672617600-1672703999@arcticslope.org
SUMMARY:Holiday|New Year's Day
DESCRIPTION:In observance of the upcoming holiday\, the ASNA and SSMH offices will be closed with exception of the ER/emergency department and all other staff essential for emergency medical care.\nThe front entryway of SSMH will be closed; please enter through the ER\, or southeast end of the building.
URL:https://arcticslope.org/event/holidaynew-years-day/
LOCATION:Samuel Simmonds Memorial Hospital\, 7000 Uula St\, Utqiagvik\, AK\, 99723\, United States
CATEGORIES:Public Holidays
END:VEVENT
BEGIN:VEVENT
DTSTART;VALUE=DATE:20220530
DTEND;VALUE=DATE:20220531
DTSTAMP:20260420T033056
CREATED:20220511T180021Z
LAST-MODIFIED:20220511T180021Z
UID:5318-1653868800-1653955199@arcticslope.org
SUMMARY:Memorial Day|Holiday
DESCRIPTION:In observance of the upcoming holiday\, the ASNA and SSMH offices will be closed with exception of the ER/emergency department and all other staff essential for emergency medical care.\nThe front entryway of SSMH will be closed; please enter through the ER\, or southeast end of the building.
URL:https://arcticslope.org/event/memorial-dayholiday/
LOCATION:Samuel Simmonds Memorial Hospital\, 7000 Uula St\, Utqiagvik\, AK\, 99723\, United States
CATEGORIES:Public Holidays
END:VEVENT
BEGIN:VEVENT
DTSTART;VALUE=DATE:20211231
DTEND;VALUE=DATE:20220101
DTSTAMP:20260420T033056
CREATED:20210505T220136Z
LAST-MODIFIED:20210505T220136Z
UID:3832-1640908800-1640995199@arcticslope.org
SUMMARY:New Years Holiday
DESCRIPTION:In observance of the upcoming holiday\, the ASNA and SSMH offices will be closed with exception of the ER/emergency department and all other staff essential for emergency medical care.\nThe front entryway of SSMH will be closed; please enter through the ER\, or southeast end of the building.
URL:https://arcticslope.org/event/new-years-holiday-2/
LOCATION:Samuel Simmonds Memorial Hospital\, 7000 Uula St\, Utqiagvik\, AK\, 99723\, United States
CATEGORIES:Public Holidays
END:VEVENT
BEGIN:VEVENT
DTSTART;VALUE=DATE:20211227
DTEND;VALUE=DATE:20211228
DTSTAMP:20260420T033056
CREATED:20210505T220058Z
LAST-MODIFIED:20210505T220058Z
UID:3830-1640563200-1640649599@arcticslope.org
SUMMARY:Christmas Holiday
DESCRIPTION:In observance of the upcoming holiday\, the ASNA and SSMH offices will be closed with exception of the ER/emergency department and all other staff essential for emergency medical care.\nThe front entryway of SSMH will be closed; please enter through the ER\, or southeast end of the building.
URL:https://arcticslope.org/event/christmas-holiday-4/
LOCATION:Samuel Simmonds Memorial Hospital\, 7000 Uula St\, Utqiagvik\, AK\, 99723\, United States
CATEGORIES:Public Holidays
END:VEVENT
BEGIN:VEVENT
DTSTART;VALUE=DATE:20211224
DTEND;VALUE=DATE:20211225
DTSTAMP:20260420T033056
CREATED:20210505T220028Z
LAST-MODIFIED:20210505T220028Z
UID:3828-1640304000-1640390399@arcticslope.org
SUMMARY:Christmas Holiday
DESCRIPTION:In observance of the upcoming holiday\, the ASNA and SSMH offices will be closed with exception of the ER/emergency department and all other staff essential for emergency medical care.\nThe front entryway of SSMH will be closed; please enter through the ER\, or southeast end of the building.
URL:https://arcticslope.org/event/christmas-holiday-3/
LOCATION:Samuel Simmonds Memorial Hospital\, 7000 Uula St\, Utqiagvik\, AK\, 99723\, United States
CATEGORIES:Public Holidays
END:VEVENT
BEGIN:VEVENT
DTSTART;VALUE=DATE:20211125
DTEND;VALUE=DATE:20211127
DTSTAMP:20260420T033056
CREATED:20210505T215953Z
LAST-MODIFIED:20210505T215953Z
UID:3826-1637798400-1637971199@arcticslope.org
SUMMARY:Thanksgiving Holiday
DESCRIPTION:In observance of the upcoming holiday\, the ASNA and SSMH offices will be closed with exception of the ER/emergency department and all other staff essential for emergency medical care.\nThe front entryway of SSMH will be closed; please enter through the ER\, or southeast end of the building.
URL:https://arcticslope.org/event/thanksgiving-holiday-3/
LOCATION:Samuel Simmonds Memorial Hospital\, 7000 Uula St\, Utqiagvik\, AK\, 99723\, United States
CATEGORIES:Public Holidays
END:VEVENT
BEGIN:VEVENT
DTSTART;VALUE=DATE:20211111
DTEND;VALUE=DATE:20211112
DTSTAMP:20260420T033056
CREATED:20210505T215903Z
LAST-MODIFIED:20210505T215903Z
UID:3824-1636588800-1636675199@arcticslope.org
SUMMARY:Veteran's Day Holiday
DESCRIPTION:In observance of the upcoming holiday\, the ASNA and SSMH offices will be closed with exception of the ER/emergency department and all other staff essential for emergency medical care.\nThe front entryway of SSMH will be closed; please enter through the ER\, or southeast end of the building.
URL:https://arcticslope.org/event/veterans-day-holiday-2/
LOCATION:Samuel Simmonds Memorial Hospital\, 7000 Uula St\, Utqiagvik\, AK\, 99723\, United States
CATEGORIES:Public Holidays
END:VEVENT
BEGIN:VEVENT
DTSTART;VALUE=DATE:20211108
DTEND;VALUE=DATE:20211109
DTSTAMP:20260420T033056
CREATED:20210505T215806Z
LAST-MODIFIED:20210505T215806Z
UID:3822-1636329600-1636415999@arcticslope.org
SUMMARY:Inuit Day Holiday
DESCRIPTION:In observance of the upcoming holiday\, the ASNA and SSMH offices will be closed with exception of the ER/emergency department and all other staff essential for emergency medical care.\nThe front entryway of SSMH will be closed; please enter through the ER\, or southeast end of the building.
URL:https://arcticslope.org/event/inuit-day-holiday-2/
LOCATION:Samuel Simmonds Memorial Hospital\, 7000 Uula St\, Utqiagvik\, AK\, 99723\, United States
CATEGORIES:Public Holidays
END:VEVENT
BEGIN:VEVENT
DTSTART;VALUE=DATE:20211018
DTEND;VALUE=DATE:20211019
DTSTAMP:20260420T033056
CREATED:20210505T215552Z
LAST-MODIFIED:20210505T215552Z
UID:3820-1634515200-1634601599@arcticslope.org
SUMMARY:Alaska Day Holiday
DESCRIPTION:In observance of the upcoming holiday\, the ASNA and SSMH offices will be closed with exception of the ER/emergency department and all other staff essential for emergency medical care.\nThe front entryway of SSMH will be closed; please enter through the ER\, or southeast end of the building.
URL:https://arcticslope.org/event/alaska-day-holiday-2/
LOCATION:Samuel Simmonds Memorial Hospital\, 7000 Uula St\, Utqiagvik\, AK\, 99723\, United States
CATEGORIES:Public Holidays
END:VEVENT
BEGIN:VEVENT
DTSTART;VALUE=DATE:20211011
DTEND;VALUE=DATE:20211012
DTSTAMP:20260420T033056
CREATED:20211005T233330Z
LAST-MODIFIED:20211005T233355Z
UID:4441-1633910400-1633996799@arcticslope.org
SUMMARY:Indigenous Peoples Day|Holiday
DESCRIPTION:In observance of the upcoming holiday\, the ASNA and SSMH office will be closed with the exception of the ER/emergency department and all other staff essential for emergency medical care. \nThe front entryway of SSMH will be closed; please enter through the ER\, or southeast end of the building.
URL:https://arcticslope.org/event/indigenous-peoples-dayholiday/
LOCATION:AK
CATEGORIES:Public Holidays
END:VEVENT
BEGIN:VEVENT
DTSTART;VALUE=DATE:20210906
DTEND;VALUE=DATE:20210907
DTSTAMP:20260420T033056
CREATED:20210505T215503Z
LAST-MODIFIED:20210505T215503Z
UID:3818-1630886400-1630972799@arcticslope.org
SUMMARY:Labor Day Holiday
DESCRIPTION:In observance of the upcoming holiday\, the ASNA and SSMH offices will be closed with exception of the ER/emergency department and all other staff essential for emergency medical care.\nThe front entryway of SSMH will be closed; please enter through the ER\, or southeast end of the building.
URL:https://arcticslope.org/event/labor-day-holiday-2/
LOCATION:Samuel Simmonds Memorial Hospital\, 7000 Uula St\, Utqiagvik\, AK\, 99723\, United States
CATEGORIES:Public Holidays
END:VEVENT
BEGIN:VEVENT
DTSTART;VALUE=DATE:20210705
DTEND;VALUE=DATE:20210706
DTSTAMP:20260420T033056
CREATED:20210505T215336Z
LAST-MODIFIED:20210505T215336Z
UID:3816-1625443200-1625529599@arcticslope.org
SUMMARY:Independence Day Holiday
DESCRIPTION:In observance of the upcoming holiday\, the ASNA and SSMH offices will be closed with exception of the ER/emergency department and all other staff essential for emergency medical care.\nThe front entryway of SSMH will be closed; please enter through the ER\, or southeast end of the building.
URL:https://arcticslope.org/event/independence-day-holiday-2/
LOCATION:Samuel Simmonds Memorial Hospital\, 7000 Uula St\, Utqiagvik\, AK\, 99723\, United States
CATEGORIES:Public Holidays
END:VEVENT
BEGIN:VEVENT
DTSTART;VALUE=DATE:20210531
DTEND;VALUE=DATE:20210601
DTSTAMP:20260420T033056
CREATED:20210505T214308Z
LAST-MODIFIED:20210505T214308Z
UID:3814-1622419200-1622505599@arcticslope.org
SUMMARY:Memorial Day Holiday
DESCRIPTION:In observance of the upcoming holiday\, the ASNA and SSMH offices will be closed with exception of the ER/emergency department and all other staff essential for emergency medical care.\nThe front entryway of SSMH will be closed; please enter through the ER\, or southeast end of the building.
URL:https://arcticslope.org/event/memorial-day-holiday-2/
LOCATION:Samuel Simmonds Memorial Hospital\, 7000 Uula St\, Utqiagvik\, AK\, 99723\, United States
CATEGORIES:Public Holidays
END:VEVENT
BEGIN:VEVENT
DTSTART;VALUE=DATE:20201224
DTEND;VALUE=DATE:20201226
DTSTAMP:20260420T033056
CREATED:20200102T192513Z
LAST-MODIFIED:20200102T192513Z
UID:1708-1608768000-1608940799@arcticslope.org
SUMMARY:Christmas | Holiday
DESCRIPTION:In observance of the upcoming holiday\, the ASNA and SSMH offices will be closed with exception of the ER/emergency department and all other staff essential for emergency medical care.\nThe front entryway of SSMH will be closed; please enter through the ER\, or southeast end of the building
URL:https://arcticslope.org/event/christmas-holiday-2/
LOCATION:Samuel Simmonds Memorial Hospital\, 7000 Uula St\, Utqiagvik\, AK\, 99723\, United States
CATEGORIES:Public Holidays
END:VEVENT
BEGIN:VEVENT
DTSTART;VALUE=DATE:20201126
DTEND;VALUE=DATE:20201128
DTSTAMP:20260420T033056
CREATED:20200102T192425Z
LAST-MODIFIED:20200102T192425Z
UID:1706-1606348800-1606521599@arcticslope.org
SUMMARY:Thanksgiving | Holiday
DESCRIPTION:In observance of the upcoming holiday\, the ASNA and SSMH offices will be closed with exception of the ER/emergency department and all other staff essential for emergency medical care.\nThe front entryway of SSMH will be closed; please enter through the ER\, or southeast end of the building
URL:https://arcticslope.org/event/thanksgiving-holiday-2/
LOCATION:Samuel Simmonds Memorial Hospital\, 7000 Uula St\, Utqiagvik\, AK\, 99723\, United States
CATEGORIES:Public Holidays
END:VEVENT
BEGIN:VEVENT
DTSTART;VALUE=DATE:20201111
DTEND;VALUE=DATE:20201112
DTSTAMP:20260420T033056
CREATED:20200102T192313Z
LAST-MODIFIED:20200102T192313Z
UID:1704-1605052800-1605139199@arcticslope.org
SUMMARY:Veteran's Day | Holiday
DESCRIPTION:In observance of the upcoming holiday\, the ASNA and SSMH offices will be closed with exception of the ER/emergency department and all other staff essential for emergency medical care.\nThe front entryway of SSMH will be closed; please enter through the ER\, or southeast end of the building
URL:https://arcticslope.org/event/veterans-day-holiday/
LOCATION:Samuel Simmonds Memorial Hospital\, 7000 Uula St\, Utqiagvik\, AK\, 99723\, United States
CATEGORIES:Public Holidays
END:VEVENT
BEGIN:VEVENT
DTSTART;VALUE=DATE:20201106
DTEND;VALUE=DATE:20201107
DTSTAMP:20260420T033056
CREATED:20200102T192224Z
LAST-MODIFIED:20200102T192224Z
UID:1702-1604620800-1604707199@arcticslope.org
SUMMARY:Inuit Day | Holiday
DESCRIPTION:In observance of the upcoming holiday\, the ASNA and SSMH offices will be closed with exception of the ER/emergency department and all other staff essential for emergency medical care.\nThe front entryway of SSMH will be closed; please enter through the ER\, or southeast end of the building
URL:https://arcticslope.org/event/inuit-day-holiday/
LOCATION:Samuel Simmonds Memorial Hospital\, 7000 Uula St\, Utqiagvik\, AK\, 99723\, United States
CATEGORIES:Public Holidays
END:VEVENT
BEGIN:VEVENT
DTSTART;VALUE=DATE:20201019
DTEND;VALUE=DATE:20201020
DTSTAMP:20260420T033056
CREATED:20200102T192104Z
LAST-MODIFIED:20200102T192104Z
UID:1700-1603065600-1603151999@arcticslope.org
SUMMARY:Alaska Day | Holiday
DESCRIPTION:In observance of the upcoming holiday\, the ASNA and SSMH offices will be closed with exception of the ER/emergency department and all other staff essential for emergency medical care.\nThe front entryway of SSMH will be closed; please enter through the ER\, or southeast end of the building
URL:https://arcticslope.org/event/alaska-day-holiday/
LOCATION:Samuel Simmonds Memorial Hospital\, 7000 Uula St\, Utqiagvik\, AK\, 99723\, United States
CATEGORIES:Public Holidays
END:VEVENT
BEGIN:VEVENT
DTSTART;VALUE=DATE:20200907
DTEND;VALUE=DATE:20200908
DTSTAMP:20260420T033056
CREATED:20200102T191944Z
LAST-MODIFIED:20200102T191944Z
UID:1698-1599436800-1599523199@arcticslope.org
SUMMARY:Labor Day | Holiday
DESCRIPTION:In observance of the upcoming holiday\, the ASNA and SSMH offices will be closed with exception of the ER/emergency department and all other staff essential for emergency medical care.\nThe front entryway of SSMH will be closed; please enter through the ER\, or southeast end of the building
URL:https://arcticslope.org/event/labor-day-holiday/
LOCATION:Samuel Simmonds Memorial Hospital\, 7000 Uula St\, Utqiagvik\, AK\, 99723\, United States
CATEGORIES:Public Holidays
END:VEVENT
BEGIN:VEVENT
DTSTART;VALUE=DATE:20200703
DTEND;VALUE=DATE:20200704
DTSTAMP:20260420T033056
CREATED:20200102T191822Z
LAST-MODIFIED:20200102T191822Z
UID:1696-1593734400-1593820799@arcticslope.org
SUMMARY:Independence Day | Holiday
DESCRIPTION:In observance of the upcoming holiday\, the ASNA and SSMH offices will be closed with exception of the ER/emergency department and all other staff essential for emergency medical care.\nThe front entryway of SSMH will be closed; please enter through the ER\, or southeast end of the building
URL:https://arcticslope.org/event/independence-day-holiday/
LOCATION:Samuel Simmonds Memorial Hospital\, 7000 Uula St\, Utqiagvik\, AK\, 99723\, United States
CATEGORIES:Public Holidays
END:VEVENT
BEGIN:VEVENT
DTSTART;VALUE=DATE:20200525
DTEND;VALUE=DATE:20200526
DTSTAMP:20260420T033056
CREATED:20200102T191642Z
LAST-MODIFIED:20200102T191642Z
UID:1694-1590364800-1590451199@arcticslope.org
SUMMARY:Memorial Day | Holiday
DESCRIPTION:In observance of the upcoming holiday\, the ASNA and SSMH offices will be closed with exception of the ER/emergency department and all other staff essential for emergency medical care.\nThe front entryway of SSMH will be closed; please enter through the ER\, or southeast end of the building
URL:https://arcticslope.org/event/memorial-day-holiday/
LOCATION:Samuel Simmonds Memorial Hospital\, 7000 Uula St\, Utqiagvik\, AK\, 99723\, United States
CATEGORIES:Public Holidays
END:VEVENT
BEGIN:VEVENT
DTSTART;VALUE=DATE:20200217
DTEND;VALUE=DATE:20200218
DTSTAMP:20260420T033056
CREATED:20200102T191536Z
LAST-MODIFIED:20200102T191536Z
UID:1692-1581897600-1581983999@arcticslope.org
SUMMARY:President's Day | Holiday
DESCRIPTION:In observance of the upcoming holiday\, the ASNA and SSMH offices will be closed with exception of the ER/emergency department and all other staff essential for emergency medical care.\nThe front entryway of SSMH will be closed; please enter through the ER\, or southeast end of the building
URL:https://arcticslope.org/event/presidents-day-holiday/
LOCATION:Samuel Simmonds Memorial Hospital\, 7000 Uula St\, Utqiagvik\, AK\, 99723\, United States
CATEGORIES:Public Holidays
END:VEVENT
BEGIN:VEVENT
DTSTART;VALUE=DATE:20200120
DTEND;VALUE=DATE:20200121
DTSTAMP:20260420T033056
CREATED:20200102T191349Z
LAST-MODIFIED:20200102T191349Z
UID:1690-1579478400-1579564799@arcticslope.org
SUMMARY:Martin Luther King\, Jr. Day | Holiday
DESCRIPTION:In observance of the upcoming holiday\, the ASNA and SSMH offices will be closed with exception of the ER/emergency department and all other staff essential for emergency medical care.\nThe front entryway of SSMH will be closed; please enter through the ER\, or southeast end of the building
URL:https://arcticslope.org/event/martin-luther-king-jr-day-holiday/
LOCATION:Samuel Simmonds Memorial Hospital\, 7000 Uula St\, Utqiagvik\, AK\, 99723\, United States
CATEGORIES:Public Holidays
END:VEVENT
BEGIN:VEVENT
DTSTART;VALUE=DATE:20200101
DTEND;VALUE=DATE:20200102
DTSTAMP:20260420T033056
CREATED:20191226T232233Z
LAST-MODIFIED:20200102T185843Z
UID:1681-1577836800-1577923199@arcticslope.org
SUMMARY:New Year's Holiday
DESCRIPTION:In observance of the upcoming holiday\, the ASNA and SSMH offices will be closed with exception of the ER/emergency department and all other staff essential for emergency medical care. The front entryway of SSMH will be closed; please enter through the ER\, or southeast end.
URL:https://arcticslope.org/event/new-years-holiday/
LOCATION:Samuel Simmonds Memorial Hospital\, 7000 Uula St\, Utqiagvik\, AK\, 99723\, United States
CATEGORIES:Public Holidays
END:VEVENT
BEGIN:VEVENT
DTSTART;VALUE=DATE:20191224
DTEND;VALUE=DATE:20191226
DTSTAMP:20260420T033056
CREATED:20190911T194831Z
LAST-MODIFIED:20190911T194831Z
UID:939-1577145600-1577318399@arcticslope.org
SUMMARY:Christmas Holiday
DESCRIPTION:[vc_row css_animation=”” row_type=”row” use_row_as_full_screen_section=”no” type=”full_width” angled_section=”no” text_align=”left” background_image_as_pattern=”without_pattern”][vc_column][vc_column_text]In observance of the upcoming holiday\, the ASNA and SSMH offices will be closed with exception of the ER/emergency department and all other staff essential for emergency medical care. \nThe front entryway of SSMH will be closed; please enter through the ER\, or southeast end of the building[/vc_column_text][vc_gmaps link=”#E-8_JTNDaWZyYW1lJTIwc3JjJTNEJTIyaHR0cHMlM0ElMkYlMkZ3d3cuZ29vZ2xlLmNvbSUyRm1hcHMlMkZlbWJlZCUzRnBiJTNEJTIxMW0xOCUyMTFtMTIlMjExbTMlMjExZDEyMDIuNzQ0NTExMzE0NDg4NCUyMTJkLTE1Ni43MzExNDk5ODM0NzYlMjEzZDcxLjI5NzE3ODI4NzMwMzE0JTIxMm0zJTIxMWYwJTIxMmYwJTIxM2YwJTIxM20yJTIxMWkxMDI0JTIxMmk3NjglMjE0ZjEzLjElMjEzbTMlMjExbTIlMjExczB4NTBjMmQ3ZjEyMDY2OTFiMyUyNTNBMHhmNTI0ZjcxNjNhMWJmMDdiJTIxMnNTYW11ZWwlMjUyMFNpbW1vbmRzJTI1MjBNZW1vcmlhbCUyNTIwSG9zcGl0YWwlMjE1ZTElMjEzbTIlMjExc2VuJTIxMnN1cyUyMTR2MTU2ODIyNjQyNTA2OSUyMTVtMiUyMTFzZW4lMjEyc3VzJTIyJTIwd2lkdGglM0QlMjI2MDAlMjIlMjBoZWlnaHQlM0QlMjI0NTAlMjIlMjBmcmFtZWJvcmRlciUzRCUyMjAlMjIlMjBzdHlsZSUzRCUyMmJvcmRlciUzQTAlM0IlMjIlMjBhbGxvd2Z1bGxzY3JlZW4lM0QlMjIlMjIlM0UlM0MlMkZpZnJhbWUlM0U=”][/vc_column][/vc_row]
URL:https://arcticslope.org/event/christmas-holiday/
LOCATION:Samuel Simmonds Memorial Hospital\, 7000 Uula St\, Utqiagvik\, AK\, 99723\, United States
CATEGORIES:Public Holidays
ATTACH;FMTTYPE=image/jpeg:https://arcticslope.org/wp-content/uploads/2019/09/Thnaksgiving.jpg
END:VEVENT
BEGIN:VEVENT
DTSTART;VALUE=DATE:20191128
DTEND;VALUE=DATE:20191130
DTSTAMP:20260420T033056
CREATED:20190911T194520Z
LAST-MODIFIED:20190911T194627Z
UID:936-1574899200-1575071999@arcticslope.org
SUMMARY:Thanksgiving Holiday
DESCRIPTION:[vc_row css_animation=”” row_type=”row” use_row_as_full_screen_section=”no” type=”full_width” angled_section=”no” text_align=”left” background_image_as_pattern=”without_pattern”][vc_column][vc_column_text]In observance of the upcoming holiday\, the ASNA and SSMH offices will be closed with exception of the ER/emergency department and all other staff essential for emergency medical care. \nThe front entryway of SSMH will be closed; please enter through the ER\, or southeast end of the building[/vc_column_text][vc_gmaps link=”#E-8_JTNDaWZyYW1lJTIwc3JjJTNEJTIyaHR0cHMlM0ElMkYlMkZ3d3cuZ29vZ2xlLmNvbSUyRm1hcHMlMkZlbWJlZCUzRnBiJTNEJTIxMW0xOCUyMTFtMTIlMjExbTMlMjExZDEyMDIuNzQ0NTExMzE0NDg4NCUyMTJkLTE1Ni43MzExNDk5ODM0NzYlMjEzZDcxLjI5NzE3ODI4NzMwMzE0JTIxMm0zJTIxMWYwJTIxMmYwJTIxM2YwJTIxM20yJTIxMWkxMDI0JTIxMmk3NjglMjE0ZjEzLjElMjEzbTMlMjExbTIlMjExczB4NTBjMmQ3ZjEyMDY2OTFiMyUyNTNBMHhmNTI0ZjcxNjNhMWJmMDdiJTIxMnNTYW11ZWwlMjUyMFNpbW1vbmRzJTI1MjBNZW1vcmlhbCUyNTIwSG9zcGl0YWwlMjE1ZTElMjEzbTIlMjExc2VuJTIxMnN1cyUyMTR2MTU2ODIyNjQyNTA2OSUyMTVtMiUyMTFzZW4lMjEyc3VzJTIyJTIwd2lkdGglM0QlMjI2MDAlMjIlMjBoZWlnaHQlM0QlMjI0NTAlMjIlMjBmcmFtZWJvcmRlciUzRCUyMjAlMjIlMjBzdHlsZSUzRCUyMmJvcmRlciUzQTAlM0IlMjIlMjBhbGxvd2Z1bGxzY3JlZW4lM0QlMjIlMjIlM0UlM0MlMkZpZnJhbWUlM0U=”][/vc_column][/vc_row]
URL:https://arcticslope.org/event/thanksgiving-holiday/
LOCATION:Samuel Simmonds Memorial Hospital\, 7000 Uula St\, Utqiagvik\, AK\, 99723\, United States
CATEGORIES:Public Holidays
ATTACH;FMTTYPE=image/jpeg:https://arcticslope.org/wp-content/uploads/2019/09/Thnaksgiving.jpg
END:VEVENT
BEGIN:VEVENT
DTSTART;VALUE=DATE:20191111
DTEND;VALUE=DATE:20191112
DTSTAMP:20260420T033056
CREATED:20190911T192152Z
LAST-MODIFIED:20190912T030912Z
UID:921-1573430400-1573516799@arcticslope.org
SUMMARY:Veteran's Day
DESCRIPTION:[vc_row css_animation=”” row_type=”row” use_row_as_full_screen_section=”no” type=”full_width” angled_section=”no” text_align=”left” background_image_as_pattern=”without_pattern”][vc_column][vc_column_text]In observance of the upcoming holiday\, the ASNA and SSMH offices will be closed with exception of the ER/emergency department and all other staff essential for emergency medical care. \nThe front entryway of SSMH will be closed; please enter through the ER\, or southeast end of the building[/vc_column_text][vc_gmaps link=”#E-8_JTNDaWZyYW1lJTIwc3JjJTNEJTIyaHR0cHMlM0ElMkYlMkZ3d3cuZ29vZ2xlLmNvbSUyRm1hcHMlMkZlbWJlZCUzRnBiJTNEJTIxMW0xOCUyMTFtMTIlMjExbTMlMjExZDEyMDIuNzQ0NTExMzE0NDg4NCUyMTJkLTE1Ni43MzExNDk5ODM0NzYlMjEzZDcxLjI5NzE3ODI4NzMwMzE0JTIxMm0zJTIxMWYwJTIxMmYwJTIxM2YwJTIxM20yJTIxMWkxMDI0JTIxMmk3NjglMjE0ZjEzLjElMjEzbTMlMjExbTIlMjExczB4NTBjMmQ3ZjEyMDY2OTFiMyUyNTNBMHhmNTI0ZjcxNjNhMWJmMDdiJTIxMnNTYW11ZWwlMjUyMFNpbW1vbmRzJTI1MjBNZW1vcmlhbCUyNTIwSG9zcGl0YWwlMjE1ZTElMjEzbTIlMjExc2VuJTIxMnN1cyUyMTR2MTU2ODIyNjQyNTA2OSUyMTVtMiUyMTFzZW4lMjEyc3VzJTIyJTIwd2lkdGglM0QlMjI2MDAlMjIlMjBoZWlnaHQlM0QlMjI0NTAlMjIlMjBmcmFtZWJvcmRlciUzRCUyMjAlMjIlMjBzdHlsZSUzRCUyMmJvcmRlciUzQTAlM0IlMjIlMjBhbGxvd2Z1bGxzY3JlZW4lM0QlMjIlMjIlM0UlM0MlMkZpZnJhbWUlM0U=”][/vc_column][/vc_row]
URL:https://arcticslope.org/event/veterans-day/
LOCATION:Samuel Simmonds Memorial Hospital\, 7000 Uula St\, Utqiagvik\, AK\, 99723\, United States
CATEGORIES:Public Holidays
ATTACH;FMTTYPE=image/jpeg:https://arcticslope.org/wp-content/uploads/2019/09/blog6-e1568774146824.jpg
END:VEVENT
BEGIN:VEVENT
DTSTART;VALUE=DATE:20191107
DTEND;VALUE=DATE:20191108
DTSTAMP:20260420T033056
CREATED:20190911T190336Z
LAST-MODIFIED:20190912T030746Z
UID:911-1573084800-1573171199@arcticslope.org
SUMMARY:Inuit Day
DESCRIPTION:[vc_row css_animation=”” row_type=”row” use_row_as_full_screen_section=”no” type=”full_width” angled_section=”no” text_align=”left” background_image_as_pattern=”without_pattern”][vc_column][vc_column_text]In observance of the upcoming holiday\, the ASNA and SSMH offices will be closed with exception of the ER/emergency department and all other staff essential for emergency medical care. \nThe front entryway of SSMH will be closed; please enter through the ER\, or southeast end of the building[/vc_column_text][vc_gmaps link=”#E-8_JTNDaWZyYW1lJTIwc3JjJTNEJTIyaHR0cHMlM0ElMkYlMkZ3d3cuZ29vZ2xlLmNvbSUyRm1hcHMlMkZlbWJlZCUzRnBiJTNEJTIxMW0xOCUyMTFtMTIlMjExbTMlMjExZDEyMDIuNzQ0NTExMzE0NDg4NCUyMTJkLTE1Ni43MzExNDk5ODM0NzYlMjEzZDcxLjI5NzE3ODI4NzMwMzE0JTIxMm0zJTIxMWYwJTIxMmYwJTIxM2YwJTIxM20yJTIxMWkxMDI0JTIxMmk3NjglMjE0ZjEzLjElMjEzbTMlMjExbTIlMjExczB4NTBjMmQ3ZjEyMDY2OTFiMyUyNTNBMHhmNTI0ZjcxNjNhMWJmMDdiJTIxMnNTYW11ZWwlMjUyMFNpbW1vbmRzJTI1MjBNZW1vcmlhbCUyNTIwSG9zcGl0YWwlMjE1ZTElMjEzbTIlMjExc2VuJTIxMnN1cyUyMTR2MTU2ODIyNjQyNTA2OSUyMTVtMiUyMTFzZW4lMjEyc3VzJTIyJTIwd2lkdGglM0QlMjI2MDAlMjIlMjBoZWlnaHQlM0QlMjI0NTAlMjIlMjBmcmFtZWJvcmRlciUzRCUyMjAlMjIlMjBzdHlsZSUzRCUyMmJvcmRlciUzQTAlM0IlMjIlMjBhbGxvd2Z1bGxzY3JlZW4lM0QlMjIlMjIlM0UlM0MlMkZpZnJhbWUlM0U=”][/vc_column][/vc_row]
URL:https://arcticslope.org/event/inuit-day/
LOCATION:Samuel Simmonds Memorial Hospital\, 7000 Uula St\, Utqiagvik\, AK\, 99723\, United States
CATEGORIES:Public Holidays
ATTACH;FMTTYPE=image/jpeg:https://arcticslope.org/wp-content/uploads/2019/09/intuitday.jpg
END:VEVENT
BEGIN:VEVENT
DTSTART;VALUE=DATE:20191018
DTEND;VALUE=DATE:20191019
DTSTAMP:20260420T033056
CREATED:20190911T173058Z
LAST-MODIFIED:20190912T030024Z
UID:858-1571356800-1571443199@arcticslope.org
SUMMARY:Alaska Day
DESCRIPTION:[vc_row css_animation=”” row_type=”row” use_row_as_full_screen_section=”no” type=”full_width” angled_section=”no” text_align=”left” background_image_as_pattern=”without_pattern”][vc_column][vc_column_text]In observance of the upcoming holiday\, the ASNA and SSMH offices will be closed with exception of the ER/emergency department and all other staff essential for emergency medical care. \nThe front entryway of SSMH will be closed; please enter through the ER\, or southeast end of the building[/vc_column_text][vc_gmaps link=”#E-8_JTNDaWZyYW1lJTIwc3JjJTNEJTIyaHR0cHMlM0ElMkYlMkZ3d3cuZ29vZ2xlLmNvbSUyRm1hcHMlMkZlbWJlZCUzRnBiJTNEJTIxMW0xOCUyMTFtMTIlMjExbTMlMjExZDEyMDIuNzQ0NTExMzE0NDg4NCUyMTJkLTE1Ni43MzExNDk5ODM0NzYlMjEzZDcxLjI5NzE3ODI4NzMwMzE0JTIxMm0zJTIxMWYwJTIxMmYwJTIxM2YwJTIxM20yJTIxMWkxMDI0JTIxMmk3NjglMjE0ZjEzLjElMjEzbTMlMjExbTIlMjExczB4NTBjMmQ3ZjEyMDY2OTFiMyUyNTNBMHhmNTI0ZjcxNjNhMWJmMDdiJTIxMnNTYW11ZWwlMjUyMFNpbW1vbmRzJTI1MjBNZW1vcmlhbCUyNTIwSG9zcGl0YWwlMjE1ZTElMjEzbTIlMjExc2VuJTIxMnN1cyUyMTR2MTU2ODIyNjQyNTA2OSUyMTVtMiUyMTFzZW4lMjEyc3VzJTIyJTIwd2lkdGglM0QlMjI2MDAlMjIlMjBoZWlnaHQlM0QlMjI0NTAlMjIlMjBmcmFtZWJvcmRlciUzRCUyMjAlMjIlMjBzdHlsZSUzRCUyMmJvcmRlciUzQTAlM0IlMjIlMjBhbGxvd2Z1bGxzY3JlZW4lM0QlMjIlMjIlM0UlM0MlMkZpZnJhbWUlM0U=”][/vc_column][/vc_row]
URL:https://arcticslope.org/event/alaska-day/
LOCATION:Samuel Simmonds Memorial Hospital\, 7000 Uula St\, Utqiagvik\, AK\, 99723\, United States
CATEGORIES:Public Holidays
ATTACH;FMTTYPE=image/jpeg:https://arcticslope.org/wp-content/uploads/2019/09/dental2.jpg
END:VEVENT
END:VCALENDAR