BEGIN:VCALENDAR
VERSION:2.0
PRODID:-//Arctic Slope Native Association - ECPv6.15.20//NONSGML v1.0//EN
CALSCALE:GREGORIAN
METHOD:PUBLISH
X-ORIGINAL-URL:https://arcticslope.org
X-WR-CALDESC:Events for Arctic Slope Native Association
REFRESH-INTERVAL;VALUE=DURATION:PT1H
X-Robots-Tag:noindex
X-PUBLISHED-TTL:PT1H
BEGIN:VTIMEZONE
TZID:America/Anchorage
BEGIN:DAYLIGHT
TZOFFSETFROM:-0900
TZOFFSETTO:-0800
TZNAME:AKDT
DTSTART:20180311T110000
END:DAYLIGHT
BEGIN:STANDARD
TZOFFSETFROM:-0800
TZOFFSETTO:-0900
TZNAME:AKST
DTSTART:20181104T100000
END:STANDARD
BEGIN:DAYLIGHT
TZOFFSETFROM:-0900
TZOFFSETTO:-0800
TZNAME:AKDT
DTSTART:20190310T110000
END:DAYLIGHT
BEGIN:STANDARD
TZOFFSETFROM:-0800
TZOFFSETTO:-0900
TZNAME:AKST
DTSTART:20191103T100000
END:STANDARD
BEGIN:DAYLIGHT
TZOFFSETFROM:-0900
TZOFFSETTO:-0800
TZNAME:AKDT
DTSTART:20200308T110000
END:DAYLIGHT
BEGIN:STANDARD
TZOFFSETFROM:-0800
TZOFFSETTO:-0900
TZNAME:AKST
DTSTART:20201101T100000
END:STANDARD
END:VTIMEZONE
BEGIN:VEVENT
DTSTART;TZID=America/Anchorage:20191118T083000
DTEND;TZID=America/Anchorage:20191122T173000
DTSTAMP:20260421T140626
CREATED:20190911T193655Z
LAST-MODIFIED:20190911T193655Z
UID:929-1574065800-1574443800@arcticslope.org
SUMMARY:Screening For Life Clinic
DESCRIPTION:[vc_row css_animation=”” row_type=”row” use_row_as_full_screen_section=”no” type=”full_width” angled_section=”no” text_align=”left” background_image_as_pattern=”without_pattern”][vc_column][vc_column_text]Specialty Clinic appointments are only for those who receive a referral from a Primary Care Provider. \nFor more information\, please contact Specialty Clinic directly at (907) 852-9284 or call toll free at 1 (888) 525-7764.[/vc_column_text][vc_gmaps link=”#E-8_JTNDaWZyYW1lJTIwc3JjJTNEJTIyaHR0cHMlM0ElMkYlMkZ3d3cuZ29vZ2xlLmNvbSUyRm1hcHMlMkZlbWJlZCUzRnBiJTNEJTIxMW0xOCUyMTFtMTIlMjExbTMlMjExZDYzMDQuODI5OTg2MTMxMjcxJTIxMmQtMTIyLjQ3NDY5NjgwMzMwOTIlMjEzZDM3LjgwMzc0NzUyMTYwNDQzJTIxMm0zJTIxMWYwJTIxMmYwJTIxM2YwJTIxM20yJTIxMWkxMDI0JTIxMmk3NjglMjE0ZjEzLjElMjEzbTMlMjExbTIlMjExczB4ODA4NTg2ZTYzMDI2MTVhMSUyNTNBMHg4NmJkMTMwMjUxNzU3YzAwJTIxMnNTdG9yZXklMkJBdmUlMjUyQyUyQlNhbiUyQkZyYW5jaXNjbyUyNTJDJTJCQ0ElMkI5NDEyOSUyMTVlMCUyMTNtMiUyMTFzZW4lMjEyc3VzJTIxNHYxNDM1ODI2NDMyMDUxJTIyJTIwd2lkdGglM0QlMjI2MDAlMjIlMjBoZWlnaHQlM0QlMjI0NTAlMjIlMjBmcmFtZWJvcmRlciUzRCUyMjAlMjIlMjBzdHlsZSUzRCUyMmJvcmRlciUzQTAlMjIlMjBhbGxvd2Z1bGxzY3JlZW4lM0UlM0MlMkZpZnJhbWUlM0U=”][/vc_column][/vc_row]
URL:https://arcticslope.org/event/screening-for-life-2/
LOCATION:Samuel Simmonds Memorial Hospital\, 7000 Uula St\, Utqiagvik\, AK\, 99723\, United States
CATEGORIES:Screening For Life Clinic
ATTACH;FMTTYPE=image/jpeg:https://arcticslope.org/wp-content/uploads/2019/09/blog6-e1568774146824.jpg
END:VEVENT
BEGIN:VEVENT
DTSTART;TZID=America/Anchorage:20190916T083000
DTEND;TZID=America/Anchorage:20190920T173000
DTSTAMP:20260421T140626
CREATED:20190911T164653Z
LAST-MODIFIED:20190918T023030Z
UID:840-1568622600-1569000600@arcticslope.org
SUMMARY:Screening For Life Clinic
DESCRIPTION:[vc_row css_animation=”” row_type=”row” use_row_as_full_screen_section=”no” type=”full_width” angled_section=”no” text_align=”left” background_image_as_pattern=”without_pattern”][vc_column][vc_column_text]Specialty Clinic appointments are only for those who receive a referral from a Primary Care Provider. \nFor more information\, please contact Specialty Clinic directly at (907) 852-9284 or call toll free at 1 (888) 525-7764.[/vc_column_text][vc_gmaps link=”#E-8_JTNDaWZyYW1lJTIwc3JjJTNEJTIyaHR0cHMlM0ElMkYlMkZ3d3cuZ29vZ2xlLmNvbSUyRm1hcHMlMkZlbWJlZCUzRnBiJTNEJTIxMW0xOCUyMTFtMTIlMjExbTMlMjExZDEyMDMuMTQxNjk2OTcxMzc5NiUyMTJkLTE1Ni43MzExNDk5ODM0NzU5NyUyMTNkNzEuMjk3MTc4Mjg3MzAzMTMlMjEybTMlMjExZjAlMjEyZjAlMjEzZjAlMjEzbTIlMjExaTEwMjQlMjEyaTc2OCUyMTRmMTMuMSUyMTNtMyUyMTFtMiUyMTFzMHg1MGMyZDdmMTIwNjY5MWIzJTI1M0EweGY1MjRmNzE2M2ExYmYwN2IlMjEyc1NhbXVlbCUyNTIwU2ltbW9uZHMlMjUyME1lbW9yaWFsJTI1MjBIb3NwaXRhbCUyMTVlMSUyMTNtMiUyMTFzZW4lMjEyc3VzJTIxNHYxNTY4NzczODE0NTgyJTIxNW0yJTIxMXNlbiUyMTJzdXMlMjIlMjB3aWR0aCUzRCUyMjYwMCUyMiUyMGhlaWdodCUzRCUyMjQ1MCUyMiUyMGZyYW1lYm9yZGVyJTNEJTIyMCUyMiUyMHN0eWxlJTNEJTIyYm9yZGVyJTNBMCUzQiUyMiUyMGFsbG93ZnVsbHNjcmVlbiUzRCUyMiUyMiUzRSUzQyUyRmlmcmFtZSUzRQ==”][/vc_column][/vc_row]
URL:https://arcticslope.org/event/screening-for-life/
LOCATION:Samuel Simmonds Memorial Hospital\, 7000 Uula St\, Utqiagvik\, AK\, 99723\, United States
CATEGORIES:Screening For Life Clinic
ATTACH;FMTTYPE=image/jpeg:https://arcticslope.org/wp-content/uploads/2019/09/blog6-e1568774146824.jpg
END:VEVENT
END:VCALENDAR