BEGIN:VCALENDAR
VERSION:2.0
PRODID:-//Arctic Slope Native Association - ECPv6.15.20//NONSGML v1.0//EN
CALSCALE:GREGORIAN
METHOD:PUBLISH
X-WR-CALNAME:Arctic Slope Native Association
X-ORIGINAL-URL:https://arcticslope.org
X-WR-CALDESC:Events for Arctic Slope Native Association
REFRESH-INTERVAL;VALUE=DURATION:PT1H
X-Robots-Tag:noindex
X-PUBLISHED-TTL:PT1H
BEGIN:VTIMEZONE
TZID:America/Anchorage
BEGIN:DAYLIGHT
TZOFFSETFROM:-0900
TZOFFSETTO:-0800
TZNAME:AKDT
DTSTART:20210314T110000
END:DAYLIGHT
BEGIN:STANDARD
TZOFFSETFROM:-0800
TZOFFSETTO:-0900
TZNAME:AKST
DTSTART:20211107T100000
END:STANDARD
BEGIN:DAYLIGHT
TZOFFSETFROM:-0900
TZOFFSETTO:-0800
TZNAME:AKDT
DTSTART:20220313T110000
END:DAYLIGHT
BEGIN:STANDARD
TZOFFSETFROM:-0800
TZOFFSETTO:-0900
TZNAME:AKST
DTSTART:20221106T100000
END:STANDARD
BEGIN:DAYLIGHT
TZOFFSETFROM:-0900
TZOFFSETTO:-0800
TZNAME:AKDT
DTSTART:20230312T110000
END:DAYLIGHT
BEGIN:STANDARD
TZOFFSETFROM:-0800
TZOFFSETTO:-0900
TZNAME:AKST
DTSTART:20231105T100000
END:STANDARD
END:VTIMEZONE
BEGIN:VEVENT
DTSTART;VALUE=DATE:20220531
DTEND;VALUE=DATE:20220603
DTSTAMP:20260422T075929
CREATED:20220511T174614Z
LAST-MODIFIED:20220511T174614Z
UID:5298-1653955200-1654214399@arcticslope.org
SUMMARY:Sleep Studies Clinic|Atqasuk
DESCRIPTION:Specialty Clinic appointments are only for those who receive a referral from a Primary Care Provider.\nFor more information\, please contact Specialty Clinic directly at (907) 852-9284 or call toll free at 1 (888) 525-7764.
URL:https://arcticslope.org/event/sleep-studies-clinicatqasuk/
LOCATION:Atqasuk Village Health Clinic
CATEGORIES:Sleep Studies Clinic
END:VEVENT
BEGIN:VEVENT
DTSTART;VALUE=DATE:20220601
DTEND;VALUE=DATE:20220604
DTSTAMP:20260422T075929
CREATED:20220511T174801Z
LAST-MODIFIED:20220511T174801Z
UID:5300-1654041600-1654300799@arcticslope.org
SUMMARY:Pain Management Clinic|Wainwright
DESCRIPTION:Specialty Clinic appointments are only for those who receive a referral from a Primary Care Provider.\nFor more information\, please contact Specialty Clinic directly at (907) 852-9284 or call toll free at 1 (888) 525-7764.
URL:https://arcticslope.org/event/pain-management-clinicwainwright/
LOCATION:Wainwright Village Health Clinic\, 1235 Airport Rd\, Wainwright\, AK\, 99782\, United States
CATEGORIES:Pain Management Clinic
END:VEVENT
BEGIN:VEVENT
DTSTART;VALUE=DATE:20220606
DTEND;VALUE=DATE:20220611
DTSTAMP:20260422T075929
CREATED:20220511T174850Z
LAST-MODIFIED:20220511T174850Z
UID:5302-1654473600-1654905599@arcticslope.org
SUMMARY:Diabetes Clinic
DESCRIPTION:Specialty Clinic appointments are only for those who receive a referral from a Primary Care Provider.\nFor more information\, please contact Specialty Clinic directly at (907) 852-9284 or call toll free at 1 (888) 525-7764.
URL:https://arcticslope.org/event/diabetes-clinic-6/
LOCATION:Samuel Simmonds Memorial Hospital\, 7000 Uula St\, Utqiagvik\, AK\, 99723\, United States
CATEGORIES:Diabetes Clinic
END:VEVENT
BEGIN:VEVENT
DTSTART;VALUE=DATE:20220606
DTEND;VALUE=DATE:20220612
DTSTAMP:20260422T075929
CREATED:20220511T174949Z
LAST-MODIFIED:20220511T174949Z
UID:5304-1654473600-1654991999@arcticslope.org
SUMMARY:Cardiology Clinic
DESCRIPTION:Specialty Clinic appointments are only for those who receive a referral from a Primary Care Provider.\nFor more information\, please contact Specialty Clinic directly at (907) 852-9284 or call toll free at 1 (888) 525-7764.
URL:https://arcticslope.org/event/cardiology-clinic-10/
LOCATION:Samuel Simmonds Memorial Hospital\, 7000 Uula St\, Utqiagvik\, AK\, 99723\, United States
CATEGORIES:Cardiology Clinic
END:VEVENT
BEGIN:VEVENT
DTSTART;VALUE=DATE:20220613
DTEND;VALUE=DATE:20220618
DTSTAMP:20260422T075929
CREATED:20220511T175036Z
LAST-MODIFIED:20220511T175036Z
UID:5306-1655078400-1655510399@arcticslope.org
SUMMARY:Colonoscopy Clinic
DESCRIPTION:Specialty Clinic appointments are only for those who receive a referral from a Primary Care Provider.\nFor more information\, please contact Specialty Clinic directly at (907) 852-9284 or call toll free at 1 (888) 525-7764.
URL:https://arcticslope.org/event/colonoscopy-clinic-8/
LOCATION:Samuel Simmonds Memorial Hospital\, 7000 Uula St\, Utqiagvik\, AK\, 99723\, United States
CATEGORIES:Colonoscopy Clinic
END:VEVENT
BEGIN:VEVENT
DTSTART;VALUE=DATE:20220620
DTEND;VALUE=DATE:20220622
DTSTAMP:20260422T075929
CREATED:20220511T175124Z
LAST-MODIFIED:20220511T175124Z
UID:5308-1655683200-1655855999@arcticslope.org
SUMMARY:Neurology Clinic
DESCRIPTION:Specialty Clinic appointments are only for those who receive a referral from a Primary Care Provider.\nFor more information\, please contact Specialty Clinic directly at (907) 852-9284 or call toll free at 1 (888) 525-7764.
URL:https://arcticslope.org/event/neurology-clinic-3/
LOCATION:Samuel Simmonds Memorial Hospital\, 7000 Uula St\, Utqiagvik\, AK\, 99723\, United States
CATEGORIES:Neurology Clinic
END:VEVENT
BEGIN:VEVENT
DTSTART;VALUE=DATE:20220620
DTEND;VALUE=DATE:20220623
DTSTAMP:20260422T075929
CREATED:20220511T175221Z
LAST-MODIFIED:20220511T175221Z
UID:5310-1655683200-1655942399@arcticslope.org
SUMMARY:Podiatry Clinic|Nuiqsut
DESCRIPTION:Specialty Clinic appointments are only for those who receive a referral from a Primary Care Provider.\nFor more information\, please contact Specialty Clinic directly at (907) 852-9284 or call toll free at 1 (888) 525-7764.
URL:https://arcticslope.org/event/podiatry-clinicnuiqsut/
LOCATION:Nuiqsut Village Health Clinic
CATEGORIES:Podiatry Clinic
END:VEVENT
BEGIN:VEVENT
DTSTART;VALUE=DATE:20220623
DTEND;VALUE=DATE:20220625
DTSTAMP:20260422T075929
CREATED:20220511T175304Z
LAST-MODIFIED:20220511T175304Z
UID:5312-1655942400-1656115199@arcticslope.org
SUMMARY:Podiatry Clinic
DESCRIPTION:Specialty Clinic appointments are only for those who receive a referral from a Primary Care Provider.\nFor more information\, please contact Specialty Clinic directly at (907) 852-9284 or call toll free at 1 (888) 525-7764.
URL:https://arcticslope.org/event/podiatry-clinic-2/
LOCATION:Samuel Simmonds Memorial Hospital\, 7000 Uula St\, Utqiagvik\, AK\, 99723\, United States
CATEGORIES:Podiatry Clinic
END:VEVENT
BEGIN:VEVENT
DTSTART;VALUE=DATE:20220627
DTEND;VALUE=DATE:20220629
DTSTAMP:20260422T075929
CREATED:20220511T175352Z
LAST-MODIFIED:20220511T175352Z
UID:5314-1656288000-1656460799@arcticslope.org
SUMMARY:Dermatology Clinic|Wainwright
DESCRIPTION:Specialty Clinic appointments are only for those who receive a referral from a Primary Care Provider.\nFor more information\, please contact Specialty Clinic directly at (907) 852-9284 or call toll free at 1 (888) 525-7764.
URL:https://arcticslope.org/event/dermatology-clinicwainwright/
LOCATION:Wainwright Village Health Clinic\, 1235 Airport Rd\, Wainwright\, AK\, 99782\, United States
CATEGORIES:Dermatology Clinic
END:VEVENT
BEGIN:VEVENT
DTSTART;VALUE=DATE:20220629
DTEND;VALUE=DATE:20220702
DTSTAMP:20260422T075929
CREATED:20220511T175448Z
LAST-MODIFIED:20220511T175448Z
UID:5316-1656460800-1656719999@arcticslope.org
SUMMARY:Dermatology Clinic
DESCRIPTION:Specialty Clinic appointments are only for those who receive a referral from a Primary Care Provider.\nFor more information\, please contact Specialty Clinic directly at (907) 852-9284 or call toll free at 1 (888) 525-7764.
URL:https://arcticslope.org/event/dermatology-clinic-2/
LOCATION:Samuel Simmonds Memorial Hospital\, 7000 Uula St\, Utqiagvik\, AK\, 99723\, United States
CATEGORIES:Dermatology Clinic
END:VEVENT
END:VCALENDAR