BEGIN:VCALENDAR
VERSION:2.0
PRODID:-//Arctic Slope Native Association - ECPv6.15.20//NONSGML v1.0//EN
CALSCALE:GREGORIAN
METHOD:PUBLISH
X-WR-CALNAME:Arctic Slope Native Association
X-ORIGINAL-URL:https://arcticslope.org
X-WR-CALDESC:Events for Arctic Slope Native Association
REFRESH-INTERVAL;VALUE=DURATION:PT1H
X-Robots-Tag:noindex
X-PUBLISHED-TTL:PT1H
BEGIN:VTIMEZONE
TZID:America/Anchorage
BEGIN:DAYLIGHT
TZOFFSETFROM:-0900
TZOFFSETTO:-0800
TZNAME:AKDT
DTSTART:20210314T110000
END:DAYLIGHT
BEGIN:STANDARD
TZOFFSETFROM:-0800
TZOFFSETTO:-0900
TZNAME:AKST
DTSTART:20211107T100000
END:STANDARD
BEGIN:DAYLIGHT
TZOFFSETFROM:-0900
TZOFFSETTO:-0800
TZNAME:AKDT
DTSTART:20220313T110000
END:DAYLIGHT
BEGIN:STANDARD
TZOFFSETFROM:-0800
TZOFFSETTO:-0900
TZNAME:AKST
DTSTART:20221106T100000
END:STANDARD
BEGIN:DAYLIGHT
TZOFFSETFROM:-0900
TZOFFSETTO:-0800
TZNAME:AKDT
DTSTART:20230312T110000
END:DAYLIGHT
BEGIN:STANDARD
TZOFFSETFROM:-0800
TZOFFSETTO:-0900
TZNAME:AKST
DTSTART:20231105T100000
END:STANDARD
END:VTIMEZONE
BEGIN:VEVENT
DTSTART;VALUE=DATE:20220831
DTEND;VALUE=DATE:20220902
DTSTAMP:20260422T031308
CREATED:20220829T190915Z
LAST-MODIFIED:20220829T190915Z
UID:5816-1661904000-1662076799@arcticslope.org
SUMMARY:Sleep Studies Clinic|Nuiqsut
DESCRIPTION:Specialty Clinic appointments are only for those who receive a referral from a Primary Care Provider.\nFor more information\, please contact Specialty Clinic directly at (907) 852-9284 or call toll free at 1 (888) 525-7764.
URL:https://arcticslope.org/event/sleep-studies-clinicnuiqsut/
LOCATION:Nuiqsut Village Health Clinic
CATEGORIES:Sleep Studies Clinic
END:VEVENT
BEGIN:VEVENT
DTSTART;VALUE=DATE:20220912
DTEND;VALUE=DATE:20220915
DTSTAMP:20260422T031308
CREATED:20220829T191025Z
LAST-MODIFIED:20220829T191025Z
UID:5818-1662940800-1663199999@arcticslope.org
SUMMARY:Podiatry Visit|Kaktovik
DESCRIPTION:Specialty Clinic appointments are only for those who receive a referral from a Primary Care Provider.\nFor more information\, please contact Specialty Clinic directly at (907) 852-9284 or call toll free at 1 (888) 525-7764.
URL:https://arcticslope.org/event/podiatry-visitkaktovik/
LOCATION:Kaktovik Village Health Clinic
CATEGORIES:Podiatry Visit | Kaktovik
END:VEVENT
BEGIN:VEVENT
DTSTART;VALUE=DATE:20220912
DTEND;VALUE=DATE:20220918
DTSTAMP:20260422T031308
CREATED:20220829T191139Z
LAST-MODIFIED:20220829T191139Z
UID:5822-1662940800-1663459199@arcticslope.org
SUMMARY:Cardiology Clinic
DESCRIPTION:Specialty Clinic appointments are only for those who receive a referral from a Primary Care Provider.\nFor more information\, please contact Specialty Clinic directly at (907) 852-9284 or call toll free at 1 (888) 525-7764.
URL:https://arcticslope.org/event/cardiology-clinic-11/
LOCATION:Samuel Simmonds Memorial Hospital\, 7000 Uula St\, Utqiagvik\, AK\, 99723\, United States
CATEGORIES:Cardiology Clinic
END:VEVENT
BEGIN:VEVENT
DTSTART;VALUE=DATE:20220912
DTEND;VALUE=DATE:20220917
DTSTAMP:20260422T031308
CREATED:20220909T161322Z
LAST-MODIFIED:20220909T161322Z
UID:5865-1662940800-1663372799@arcticslope.org
SUMMARY:Dental Village Visit|Kaktovik
DESCRIPTION:SSMH Dentist Dr. William Dean is scheduled to be in Kaktovik. Please call your NSB village health clinic to ensure that your name is on the “dental list” with your contact information.
URL:https://arcticslope.org/event/dental-village-visitkaktovik/
LOCATION:Kaktovik Village Health Clinic
CATEGORIES:Dental Village Visit | Kaktovik
END:VEVENT
BEGIN:VEVENT
DTSTART;VALUE=DATE:20220912
DTEND;VALUE=DATE:20220917
DTSTAMP:20260422T031308
CREATED:20220909T162109Z
LAST-MODIFIED:20220909T162109Z
UID:5869-1662940800-1663372799@arcticslope.org
SUMMARY:Dental Village Visit|Wainwright
DESCRIPTION:SSMH Dentist Hygienists Amanda Stein and Claudia Richter are scheduled to be in Wainwright. Please call your NSB village health clinic to ensure that your name is on the “dental list” with your contact information.
URL:https://arcticslope.org/event/dental-village-visitwainwright-3/
LOCATION:Wainwright Village Health Clinic\, 1235 Airport Rd\, Wainwright\, AK\, 99782\, United States
CATEGORIES:Dental Village Visit | Wainwright
END:VEVENT
BEGIN:VEVENT
DTSTART;VALUE=DATE:20220915
DTEND;VALUE=DATE:20220917
DTSTAMP:20260422T031308
CREATED:20220829T191054Z
LAST-MODIFIED:20220829T191054Z
UID:5820-1663200000-1663372799@arcticslope.org
SUMMARY:Podiatry Clinic
DESCRIPTION:Specialty Clinic appointments are only for those who receive a referral from a Primary Care Provider.\nFor more information\, please contact Specialty Clinic directly at (907) 852-9284 or call toll free at 1 (888) 525-7764.
URL:https://arcticslope.org/event/podiatry-clinic-3/
LOCATION:Samuel Simmonds Memorial Hospital\, 7000 Uula St\, Utqiagvik\, AK\, 99723\, United States
CATEGORIES:Podiatry Clinic
END:VEVENT
BEGIN:VEVENT
DTSTART;VALUE=DATE:20220919
DTEND;VALUE=DATE:20220921
DTSTAMP:20260422T031308
CREATED:20220829T191434Z
LAST-MODIFIED:20220829T191434Z
UID:5830-1663545600-1663718399@arcticslope.org
SUMMARY:Dermatology Visit|Point Lay
DESCRIPTION:Specialty Clinic appointments are only for those who receive a referral from a Primary Care Provider.\nFor more information\, please contact Specialty Clinic directly at (907) 852-9284 or call toll free at 1 (888) 525-7764.
URL:https://arcticslope.org/event/dermatology-visitpoint-lay/
LOCATION:Point Lay Village Health Clinic
CATEGORIES:Dermatology Clinic
END:VEVENT
BEGIN:VEVENT
DTSTART;VALUE=DATE:20220921
DTEND;VALUE=DATE:20220924
DTSTAMP:20260422T031308
CREATED:20220829T191515Z
LAST-MODIFIED:20220829T191515Z
UID:5832-1663718400-1663977599@arcticslope.org
SUMMARY:Dermatology Clinic
DESCRIPTION:Specialty Clinic appointments are only for those who receive a referral from a Primary Care Provider.\nFor more information\, please contact Specialty Clinic directly at (907) 852-9284 or call toll free at 1 (888) 525-7764.
URL:https://arcticslope.org/event/dermatology-clinic-3/
LOCATION:Samuel Simmonds Memorial Hospital\, 7000 Uula St\, Utqiagvik\, AK\, 99723\, United States
CATEGORIES:Dermatology Clinic
END:VEVENT
BEGIN:VEVENT
DTSTART;VALUE=DATE:20220922
DTEND;VALUE=DATE:20220923
DTSTAMP:20260422T031308
CREATED:20220829T191606Z
LAST-MODIFIED:20220829T191606Z
UID:5834-1663804800-1663891199@arcticslope.org
SUMMARY:Hepatology Clinic
DESCRIPTION:Specialty Clinic appointments are only for those who receive a referral from a Primary Care Provider.\nFor more information\, please contact Specialty Clinic directly at (907) 852-9284 or call toll free at 1 (888) 525-7764.
URL:https://arcticslope.org/event/hepatology-clinic/
LOCATION:Samuel Simmonds Memorial Hospital\, 7000 Uula St\, Utqiagvik\, AK\, 99723\, United States
CATEGORIES:Hepatology Clinic
END:VEVENT
BEGIN:VEVENT
DTSTART;VALUE=DATE:20220926
DTEND;VALUE=DATE:20220929
DTSTAMP:20260422T031308
CREATED:20220829T191222Z
LAST-MODIFIED:20220829T191222Z
UID:5824-1664150400-1664409599@arcticslope.org
SUMMARY:Diabetes Clinic
DESCRIPTION:Specialty Clinic appointments are only for those who receive a referral from a Primary Care Provider.\nFor more information\, please contact Specialty Clinic directly at (907) 852-9284 or call toll free at 1 (888) 525-7764.
URL:https://arcticslope.org/event/diabetes-clinic-7/
LOCATION:Samuel Simmonds Memorial Hospital\, 7000 Uula St\, Utqiagvik\, AK\, 99723\, United States
CATEGORIES:Diabetes Clinic
END:VEVENT
BEGIN:VEVENT
DTSTART;VALUE=DATE:20220926
DTEND;VALUE=DATE:20221001
DTSTAMP:20260422T031308
CREATED:20220829T191641Z
LAST-MODIFIED:20220829T191641Z
UID:5836-1664150400-1664582399@arcticslope.org
SUMMARY:Sleep Studies Clinic
DESCRIPTION:Specialty Clinic appointments are only for those who receive a referral from a Primary Care Provider.\nFor more information\, please contact Specialty Clinic directly at (907) 852-9284 or call toll free at 1 (888) 525-7764.
URL:https://arcticslope.org/event/sleep-studies-clinic-13/
LOCATION:Samuel Simmonds Memorial Hospital\, 7000 Uula St\, Utqiagvik\, AK\, 99723\, United States
CATEGORIES:Sleep Studies Clinic
END:VEVENT
BEGIN:VEVENT
DTSTART;VALUE=DATE:20220926
DTEND;VALUE=DATE:20221001
DTSTAMP:20260422T031308
CREATED:20220909T161417Z
LAST-MODIFIED:20220909T161417Z
UID:5867-1664150400-1664582399@arcticslope.org
SUMMARY:Dental Village Visit|Kaktovik
DESCRIPTION:SSMH Dental Hygienist Claudia Richter is scheduled to be in Kaktovik. Please call your NSB village health clinic to ensure that your name is on the “dental list” with your contact information.
URL:https://arcticslope.org/event/dental-village-visitkaktovik-2/
LOCATION:Kaktovik Village Health Clinic
CATEGORIES:Dental Village Visit | Kaktovik
END:VEVENT
BEGIN:VEVENT
DTSTART;VALUE=DATE:20220926
DTEND;VALUE=DATE:20221001
DTSTAMP:20260422T031308
CREATED:20220909T162215Z
LAST-MODIFIED:20220909T162215Z
UID:5871-1664150400-1664582399@arcticslope.org
SUMMARY:Dental Village Visit|Wainwright
DESCRIPTION:SSMH Dentist Dr. Batliner is scheduled to be in Wainwright. Please call your NSB village health clinic to ensure that your name is on the “dental list” with your contact information.
URL:https://arcticslope.org/event/dental-village-visitwainwright-4/
LOCATION:Wainwright Village Health Clinic\, 1235 Airport Rd\, Wainwright\, AK\, 99782\, United States
CATEGORIES:Dental Village Visit | Wainwright
END:VEVENT
BEGIN:VEVENT
DTSTART;VALUE=DATE:20220929
DTEND;VALUE=DATE:20221001
DTSTAMP:20260422T031308
CREATED:20220829T191340Z
LAST-MODIFIED:20220829T191340Z
UID:5828-1664409600-1664582399@arcticslope.org
SUMMARY:Diabetes Visit|Kaktovik
DESCRIPTION:Specialty Clinic appointments are only for those who receive a referral from a Primary Care Provider.\nFor more information\, please contact Specialty Clinic directly at (907) 852-9284 or call toll free at 1 (888) 525-7764.
URL:https://arcticslope.org/event/diabetes-visitkaktovik/
LOCATION:Kaktovik Village Health Clinic
CATEGORIES:Diabetes Clinic
END:VEVENT
BEGIN:VEVENT
DTSTART;VALUE=DATE:20220929
DTEND;VALUE=DATE:20221001
DTSTAMP:20260422T031308
CREATED:20220829T191725Z
LAST-MODIFIED:20220829T191725Z
UID:5838-1664409600-1664582399@arcticslope.org
SUMMARY:EGD Clinic
DESCRIPTION:Specialty Clinic appointments are only for those who receive a referral from a Primary Care Provider.\nFor more information\, please contact Specialty Clinic directly at (907) 852-9284 or call toll free at 1 (888) 525-7764.
URL:https://arcticslope.org/event/egd-clinic-9/
LOCATION:Samuel Simmonds Memorial Hospital\, 7000 Uula St\, Utqiagvik\, AK\, 99723\, United States
CATEGORIES:EGD Clinic
END:VEVENT
END:VCALENDAR